BEGIN:VCALENDAR
VERSION:2.0
PRODID:-//Keller Williams Lifestyles Realty, Brokerage - ECPv6.15.20//NONSGML v1.0//EN
CALSCALE:GREGORIAN
METHOD:PUBLISH
X-WR-CALNAME:Keller Williams Lifestyles Realty, Brokerage
X-ORIGINAL-URL:https://www.kwlifestyles.com
X-WR-CALDESC:Events for Keller Williams Lifestyles Realty, Brokerage
REFRESH-INTERVAL;VALUE=DURATION:PT1H
X-Robots-Tag:noindex
X-PUBLISHED-TTL:PT1H
BEGIN:VTIMEZONE
TZID:America/Toronto
BEGIN:DAYLIGHT
TZOFFSETFROM:-0500
TZOFFSETTO:-0400
TZNAME:EDT
DTSTART:20280312T070000
END:DAYLIGHT
BEGIN:STANDARD
TZOFFSETFROM:-0400
TZOFFSETTO:-0500
TZNAME:EST
DTSTART:20281105T060000
END:STANDARD
BEGIN:DAYLIGHT
TZOFFSETFROM:-0500
TZOFFSETTO:-0400
TZNAME:EDT
DTSTART:20290311T070000
END:DAYLIGHT
BEGIN:STANDARD
TZOFFSETFROM:-0400
TZOFFSETTO:-0500
TZNAME:EST
DTSTART:20291104T060000
END:STANDARD
BEGIN:DAYLIGHT
TZOFFSETFROM:-0500
TZOFFSETTO:-0400
TZNAME:EDT
DTSTART:20300310T070000
END:DAYLIGHT
BEGIN:STANDARD
TZOFFSETFROM:-0400
TZOFFSETTO:-0500
TZNAME:EST
DTSTART:20301103T060000
END:STANDARD
END:VTIMEZONE
BEGIN:VEVENT
DTSTART;TZID=America/Toronto:20290823T110000
DTEND;TZID=America/Toronto:20290823T120000
DTSTAMP:20260423T101038
CREATED:20260406T131817Z
LAST-MODIFIED:20260406T150926Z
UID:10006304-1882177200-1882180800@www.kwlifestyles.com
SUMMARY:Byte-Sized Tech – Your Questions Answered!
DESCRIPTION:Drop in for quick\, practical help with real estate technology! \nWhether it’s Command\, Realm\, DocuSign\, or anything else\, bring your questions for David and get answers on the spot. \nJoin anytime during the session\, stay as long as you need\, and leave with solutions.
URL:https://www.kwlifestyles.com/event/byte-sized-tech-your-questions-answered/2029-08-23/
LOCATION:Online
CATEGORIES:London
END:VEVENT
BEGIN:VEVENT
DTSTART;TZID=America/Toronto:20290827T110000
DTEND;TZID=America/Toronto:20290827T120000
DTSTAMP:20260423T101038
CREATED:20260406T131817Z
LAST-MODIFIED:20260406T150926Z
UID:10006305-1882522800-1882526400@www.kwlifestyles.com
SUMMARY:Byte-Sized Tech – Your Questions Answered!
DESCRIPTION:Drop in for quick\, practical help with real estate technology! \nWhether it’s Command\, Realm\, DocuSign\, or anything else\, bring your questions for David and get answers on the spot. \nJoin anytime during the session\, stay as long as you need\, and leave with solutions.
URL:https://www.kwlifestyles.com/event/byte-sized-tech-your-questions-answered/2029-08-27/
LOCATION:Online
CATEGORIES:London
END:VEVENT
BEGIN:VEVENT
DTSTART;TZID=America/Toronto:20290828T110000
DTEND;TZID=America/Toronto:20290828T120000
DTSTAMP:20260423T101038
CREATED:20260406T131817Z
LAST-MODIFIED:20260406T150926Z
UID:10006306-1882609200-1882612800@www.kwlifestyles.com
SUMMARY:Byte-Sized Tech – Your Questions Answered!
DESCRIPTION:Drop in for quick\, practical help with real estate technology! \nWhether it’s Command\, Realm\, DocuSign\, or anything else\, bring your questions for David and get answers on the spot. \nJoin anytime during the session\, stay as long as you need\, and leave with solutions.
URL:https://www.kwlifestyles.com/event/byte-sized-tech-your-questions-answered/2029-08-28/
LOCATION:Online
CATEGORIES:London
END:VEVENT
BEGIN:VEVENT
DTSTART;TZID=America/Toronto:20290829T110000
DTEND;TZID=America/Toronto:20290829T120000
DTSTAMP:20260423T101038
CREATED:20260406T131817Z
LAST-MODIFIED:20260406T150926Z
UID:10006307-1882695600-1882699200@www.kwlifestyles.com
SUMMARY:Byte-Sized Tech – Your Questions Answered!
DESCRIPTION:Drop in for quick\, practical help with real estate technology! \nWhether it’s Command\, Realm\, DocuSign\, or anything else\, bring your questions for David and get answers on the spot. \nJoin anytime during the session\, stay as long as you need\, and leave with solutions.
URL:https://www.kwlifestyles.com/event/byte-sized-tech-your-questions-answered/2029-08-29/
LOCATION:Online
CATEGORIES:London
END:VEVENT
BEGIN:VEVENT
DTSTART;TZID=America/Toronto:20290830T110000
DTEND;TZID=America/Toronto:20290830T120000
DTSTAMP:20260423T101038
CREATED:20260406T131817Z
LAST-MODIFIED:20260406T150926Z
UID:10006308-1882782000-1882785600@www.kwlifestyles.com
SUMMARY:Byte-Sized Tech – Your Questions Answered!
DESCRIPTION:Drop in for quick\, practical help with real estate technology! \nWhether it’s Command\, Realm\, DocuSign\, or anything else\, bring your questions for David and get answers on the spot. \nJoin anytime during the session\, stay as long as you need\, and leave with solutions.
URL:https://www.kwlifestyles.com/event/byte-sized-tech-your-questions-answered/2029-08-30/
LOCATION:Online
CATEGORIES:London
END:VEVENT
BEGIN:VEVENT
DTSTART;TZID=America/Toronto:20290903T110000
DTEND;TZID=America/Toronto:20290903T120000
DTSTAMP:20260423T101038
CREATED:20260406T131817Z
LAST-MODIFIED:20260406T150926Z
UID:10006309-1883127600-1883131200@www.kwlifestyles.com
SUMMARY:Byte-Sized Tech – Your Questions Answered!
DESCRIPTION:Drop in for quick\, practical help with real estate technology! \nWhether it’s Command\, Realm\, DocuSign\, or anything else\, bring your questions for David and get answers on the spot. \nJoin anytime during the session\, stay as long as you need\, and leave with solutions.
URL:https://www.kwlifestyles.com/event/byte-sized-tech-your-questions-answered/2029-09-03/
LOCATION:Online
CATEGORIES:London
END:VEVENT
BEGIN:VEVENT
DTSTART;TZID=America/Toronto:20290904T110000
DTEND;TZID=America/Toronto:20290904T120000
DTSTAMP:20260423T101038
CREATED:20260406T131817Z
LAST-MODIFIED:20260406T150926Z
UID:10006310-1883214000-1883217600@www.kwlifestyles.com
SUMMARY:Byte-Sized Tech – Your Questions Answered!
DESCRIPTION:Drop in for quick\, practical help with real estate technology! \nWhether it’s Command\, Realm\, DocuSign\, or anything else\, bring your questions for David and get answers on the spot. \nJoin anytime during the session\, stay as long as you need\, and leave with solutions.
URL:https://www.kwlifestyles.com/event/byte-sized-tech-your-questions-answered/2029-09-04/
LOCATION:Online
CATEGORIES:London
END:VEVENT
BEGIN:VEVENT
DTSTART;TZID=America/Toronto:20290905T110000
DTEND;TZID=America/Toronto:20290905T120000
DTSTAMP:20260423T101038
CREATED:20260406T131817Z
LAST-MODIFIED:20260406T150926Z
UID:10006311-1883300400-1883304000@www.kwlifestyles.com
SUMMARY:Byte-Sized Tech – Your Questions Answered!
DESCRIPTION:Drop in for quick\, practical help with real estate technology! \nWhether it’s Command\, Realm\, DocuSign\, or anything else\, bring your questions for David and get answers on the spot. \nJoin anytime during the session\, stay as long as you need\, and leave with solutions.
URL:https://www.kwlifestyles.com/event/byte-sized-tech-your-questions-answered/2029-09-05/
LOCATION:Online
CATEGORIES:London
END:VEVENT
BEGIN:VEVENT
DTSTART;TZID=America/Toronto:20290906T110000
DTEND;TZID=America/Toronto:20290906T120000
DTSTAMP:20260423T101038
CREATED:20260406T131817Z
LAST-MODIFIED:20260406T150926Z
UID:10006312-1883386800-1883390400@www.kwlifestyles.com
SUMMARY:Byte-Sized Tech – Your Questions Answered!
DESCRIPTION:Drop in for quick\, practical help with real estate technology! \nWhether it’s Command\, Realm\, DocuSign\, or anything else\, bring your questions for David and get answers on the spot. \nJoin anytime during the session\, stay as long as you need\, and leave with solutions.
URL:https://www.kwlifestyles.com/event/byte-sized-tech-your-questions-answered/2029-09-06/
LOCATION:Online
CATEGORIES:London
END:VEVENT
BEGIN:VEVENT
DTSTART;TZID=America/Toronto:20290910T110000
DTEND;TZID=America/Toronto:20290910T120000
DTSTAMP:20260423T101038
CREATED:20260406T131817Z
LAST-MODIFIED:20260406T150926Z
UID:10006313-1883732400-1883736000@www.kwlifestyles.com
SUMMARY:Byte-Sized Tech – Your Questions Answered!
DESCRIPTION:Drop in for quick\, practical help with real estate technology! \nWhether it’s Command\, Realm\, DocuSign\, or anything else\, bring your questions for David and get answers on the spot. \nJoin anytime during the session\, stay as long as you need\, and leave with solutions.
URL:https://www.kwlifestyles.com/event/byte-sized-tech-your-questions-answered/2029-09-10/
LOCATION:Online
CATEGORIES:London
END:VEVENT
BEGIN:VEVENT
DTSTART;TZID=America/Toronto:20290911T110000
DTEND;TZID=America/Toronto:20290911T120000
DTSTAMP:20260423T101038
CREATED:20260406T131817Z
LAST-MODIFIED:20260406T150926Z
UID:10006314-1883818800-1883822400@www.kwlifestyles.com
SUMMARY:Byte-Sized Tech – Your Questions Answered!
DESCRIPTION:Drop in for quick\, practical help with real estate technology! \nWhether it’s Command\, Realm\, DocuSign\, or anything else\, bring your questions for David and get answers on the spot. \nJoin anytime during the session\, stay as long as you need\, and leave with solutions.
URL:https://www.kwlifestyles.com/event/byte-sized-tech-your-questions-answered/2029-09-11/
LOCATION:Online
CATEGORIES:London
END:VEVENT
BEGIN:VEVENT
DTSTART;TZID=America/Toronto:20290912T110000
DTEND;TZID=America/Toronto:20290912T120000
DTSTAMP:20260423T101038
CREATED:20260406T131817Z
LAST-MODIFIED:20260406T150926Z
UID:10006315-1883905200-1883908800@www.kwlifestyles.com
SUMMARY:Byte-Sized Tech – Your Questions Answered!
DESCRIPTION:Drop in for quick\, practical help with real estate technology! \nWhether it’s Command\, Realm\, DocuSign\, or anything else\, bring your questions for David and get answers on the spot. \nJoin anytime during the session\, stay as long as you need\, and leave with solutions.
URL:https://www.kwlifestyles.com/event/byte-sized-tech-your-questions-answered/2029-09-12/
LOCATION:Online
CATEGORIES:London
END:VEVENT
BEGIN:VEVENT
DTSTART;TZID=America/Toronto:20290913T110000
DTEND;TZID=America/Toronto:20290913T120000
DTSTAMP:20260423T101038
CREATED:20260406T131817Z
LAST-MODIFIED:20260406T150926Z
UID:10006316-1883991600-1883995200@www.kwlifestyles.com
SUMMARY:Byte-Sized Tech – Your Questions Answered!
DESCRIPTION:Drop in for quick\, practical help with real estate technology! \nWhether it’s Command\, Realm\, DocuSign\, or anything else\, bring your questions for David and get answers on the spot. \nJoin anytime during the session\, stay as long as you need\, and leave with solutions.
URL:https://www.kwlifestyles.com/event/byte-sized-tech-your-questions-answered/2029-09-13/
LOCATION:Online
CATEGORIES:London
END:VEVENT
BEGIN:VEVENT
DTSTART;TZID=America/Toronto:20290917T110000
DTEND;TZID=America/Toronto:20290917T120000
DTSTAMP:20260423T101038
CREATED:20260406T131817Z
LAST-MODIFIED:20260406T150926Z
UID:10006317-1884337200-1884340800@www.kwlifestyles.com
SUMMARY:Byte-Sized Tech – Your Questions Answered!
DESCRIPTION:Drop in for quick\, practical help with real estate technology! \nWhether it’s Command\, Realm\, DocuSign\, or anything else\, bring your questions for David and get answers on the spot. \nJoin anytime during the session\, stay as long as you need\, and leave with solutions.
URL:https://www.kwlifestyles.com/event/byte-sized-tech-your-questions-answered/2029-09-17/
LOCATION:Online
CATEGORIES:London
END:VEVENT
BEGIN:VEVENT
DTSTART;TZID=America/Toronto:20290918T110000
DTEND;TZID=America/Toronto:20290918T120000
DTSTAMP:20260423T101038
CREATED:20260406T131817Z
LAST-MODIFIED:20260406T150926Z
UID:10006318-1884423600-1884427200@www.kwlifestyles.com
SUMMARY:Byte-Sized Tech – Your Questions Answered!
DESCRIPTION:Drop in for quick\, practical help with real estate technology! \nWhether it’s Command\, Realm\, DocuSign\, or anything else\, bring your questions for David and get answers on the spot. \nJoin anytime during the session\, stay as long as you need\, and leave with solutions.
URL:https://www.kwlifestyles.com/event/byte-sized-tech-your-questions-answered/2029-09-18/
LOCATION:Online
CATEGORIES:London
END:VEVENT
BEGIN:VEVENT
DTSTART;TZID=America/Toronto:20290919T110000
DTEND;TZID=America/Toronto:20290919T120000
DTSTAMP:20260423T101038
CREATED:20260406T131817Z
LAST-MODIFIED:20260406T150926Z
UID:10006319-1884510000-1884513600@www.kwlifestyles.com
SUMMARY:Byte-Sized Tech – Your Questions Answered!
DESCRIPTION:Drop in for quick\, practical help with real estate technology! \nWhether it’s Command\, Realm\, DocuSign\, or anything else\, bring your questions for David and get answers on the spot. \nJoin anytime during the session\, stay as long as you need\, and leave with solutions.
URL:https://www.kwlifestyles.com/event/byte-sized-tech-your-questions-answered/2029-09-19/
LOCATION:Online
CATEGORIES:London
END:VEVENT
BEGIN:VEVENT
DTSTART;TZID=America/Toronto:20290920T110000
DTEND;TZID=America/Toronto:20290920T120000
DTSTAMP:20260423T101038
CREATED:20260406T131817Z
LAST-MODIFIED:20260406T150926Z
UID:10006320-1884596400-1884600000@www.kwlifestyles.com
SUMMARY:Byte-Sized Tech – Your Questions Answered!
DESCRIPTION:Drop in for quick\, practical help with real estate technology! \nWhether it’s Command\, Realm\, DocuSign\, or anything else\, bring your questions for David and get answers on the spot. \nJoin anytime during the session\, stay as long as you need\, and leave with solutions.
URL:https://www.kwlifestyles.com/event/byte-sized-tech-your-questions-answered/2029-09-20/
LOCATION:Online
CATEGORIES:London
END:VEVENT
BEGIN:VEVENT
DTSTART;TZID=America/Toronto:20290924T110000
DTEND;TZID=America/Toronto:20290924T120000
DTSTAMP:20260423T101038
CREATED:20260406T131817Z
LAST-MODIFIED:20260406T150926Z
UID:10006321-1884942000-1884945600@www.kwlifestyles.com
SUMMARY:Byte-Sized Tech – Your Questions Answered!
DESCRIPTION:Drop in for quick\, practical help with real estate technology! \nWhether it’s Command\, Realm\, DocuSign\, or anything else\, bring your questions for David and get answers on the spot. \nJoin anytime during the session\, stay as long as you need\, and leave with solutions.
URL:https://www.kwlifestyles.com/event/byte-sized-tech-your-questions-answered/2029-09-24/
LOCATION:Online
CATEGORIES:London
END:VEVENT
BEGIN:VEVENT
DTSTART;TZID=America/Toronto:20290925T110000
DTEND;TZID=America/Toronto:20290925T120000
DTSTAMP:20260423T101038
CREATED:20260406T131817Z
LAST-MODIFIED:20260406T150926Z
UID:10006322-1885028400-1885032000@www.kwlifestyles.com
SUMMARY:Byte-Sized Tech – Your Questions Answered!
DESCRIPTION:Drop in for quick\, practical help with real estate technology! \nWhether it’s Command\, Realm\, DocuSign\, or anything else\, bring your questions for David and get answers on the spot. \nJoin anytime during the session\, stay as long as you need\, and leave with solutions.
URL:https://www.kwlifestyles.com/event/byte-sized-tech-your-questions-answered/2029-09-25/
LOCATION:Online
CATEGORIES:London
END:VEVENT
BEGIN:VEVENT
DTSTART;TZID=America/Toronto:20290926T110000
DTEND;TZID=America/Toronto:20290926T120000
DTSTAMP:20260423T101038
CREATED:20260406T131817Z
LAST-MODIFIED:20260406T150926Z
UID:10006323-1885114800-1885118400@www.kwlifestyles.com
SUMMARY:Byte-Sized Tech – Your Questions Answered!
DESCRIPTION:Drop in for quick\, practical help with real estate technology! \nWhether it’s Command\, Realm\, DocuSign\, or anything else\, bring your questions for David and get answers on the spot. \nJoin anytime during the session\, stay as long as you need\, and leave with solutions.
URL:https://www.kwlifestyles.com/event/byte-sized-tech-your-questions-answered/2029-09-26/
LOCATION:Online
CATEGORIES:London
END:VEVENT
BEGIN:VEVENT
DTSTART;TZID=America/Toronto:20290927T110000
DTEND;TZID=America/Toronto:20290927T120000
DTSTAMP:20260423T101038
CREATED:20260406T131817Z
LAST-MODIFIED:20260406T150926Z
UID:10006324-1885201200-1885204800@www.kwlifestyles.com
SUMMARY:Byte-Sized Tech – Your Questions Answered!
DESCRIPTION:Drop in for quick\, practical help with real estate technology! \nWhether it’s Command\, Realm\, DocuSign\, or anything else\, bring your questions for David and get answers on the spot. \nJoin anytime during the session\, stay as long as you need\, and leave with solutions.
URL:https://www.kwlifestyles.com/event/byte-sized-tech-your-questions-answered/2029-09-27/
LOCATION:Online
CATEGORIES:London
END:VEVENT
BEGIN:VEVENT
DTSTART;TZID=America/Toronto:20291001T110000
DTEND;TZID=America/Toronto:20291001T120000
DTSTAMP:20260423T101038
CREATED:20260406T131817Z
LAST-MODIFIED:20260406T150926Z
UID:10006325-1885546800-1885550400@www.kwlifestyles.com
SUMMARY:Byte-Sized Tech – Your Questions Answered!
DESCRIPTION:Drop in for quick\, practical help with real estate technology! \nWhether it’s Command\, Realm\, DocuSign\, or anything else\, bring your questions for David and get answers on the spot. \nJoin anytime during the session\, stay as long as you need\, and leave with solutions.
URL:https://www.kwlifestyles.com/event/byte-sized-tech-your-questions-answered/2029-10-01/
LOCATION:Online
CATEGORIES:London
END:VEVENT
BEGIN:VEVENT
DTSTART;TZID=America/Toronto:20291002T110000
DTEND;TZID=America/Toronto:20291002T120000
DTSTAMP:20260423T101038
CREATED:20260406T131817Z
LAST-MODIFIED:20260406T150926Z
UID:10006326-1885633200-1885636800@www.kwlifestyles.com
SUMMARY:Byte-Sized Tech – Your Questions Answered!
DESCRIPTION:Drop in for quick\, practical help with real estate technology! \nWhether it’s Command\, Realm\, DocuSign\, or anything else\, bring your questions for David and get answers on the spot. \nJoin anytime during the session\, stay as long as you need\, and leave with solutions.
URL:https://www.kwlifestyles.com/event/byte-sized-tech-your-questions-answered/2029-10-02/
LOCATION:Online
CATEGORIES:London
END:VEVENT
BEGIN:VEVENT
DTSTART;TZID=America/Toronto:20291003T110000
DTEND;TZID=America/Toronto:20291003T120000
DTSTAMP:20260423T101038
CREATED:20260406T131817Z
LAST-MODIFIED:20260406T150926Z
UID:10006327-1885719600-1885723200@www.kwlifestyles.com
SUMMARY:Byte-Sized Tech – Your Questions Answered!
DESCRIPTION:Drop in for quick\, practical help with real estate technology! \nWhether it’s Command\, Realm\, DocuSign\, or anything else\, bring your questions for David and get answers on the spot. \nJoin anytime during the session\, stay as long as you need\, and leave with solutions.
URL:https://www.kwlifestyles.com/event/byte-sized-tech-your-questions-answered/2029-10-03/
LOCATION:Online
CATEGORIES:London
END:VEVENT
BEGIN:VEVENT
DTSTART;TZID=America/Toronto:20291004T110000
DTEND;TZID=America/Toronto:20291004T120000
DTSTAMP:20260423T101038
CREATED:20260406T131817Z
LAST-MODIFIED:20260406T150926Z
UID:10006328-1885806000-1885809600@www.kwlifestyles.com
SUMMARY:Byte-Sized Tech – Your Questions Answered!
DESCRIPTION:Drop in for quick\, practical help with real estate technology! \nWhether it’s Command\, Realm\, DocuSign\, or anything else\, bring your questions for David and get answers on the spot. \nJoin anytime during the session\, stay as long as you need\, and leave with solutions.
URL:https://www.kwlifestyles.com/event/byte-sized-tech-your-questions-answered/2029-10-04/
LOCATION:Online
CATEGORIES:London
END:VEVENT
BEGIN:VEVENT
DTSTART;TZID=America/Toronto:20291008T110000
DTEND;TZID=America/Toronto:20291008T120000
DTSTAMP:20260423T101038
CREATED:20260406T131817Z
LAST-MODIFIED:20260406T150926Z
UID:10006329-1886151600-1886155200@www.kwlifestyles.com
SUMMARY:Byte-Sized Tech – Your Questions Answered!
DESCRIPTION:Drop in for quick\, practical help with real estate technology! \nWhether it’s Command\, Realm\, DocuSign\, or anything else\, bring your questions for David and get answers on the spot. \nJoin anytime during the session\, stay as long as you need\, and leave with solutions.
URL:https://www.kwlifestyles.com/event/byte-sized-tech-your-questions-answered/2029-10-08/
LOCATION:Online
CATEGORIES:London
END:VEVENT
BEGIN:VEVENT
DTSTART;TZID=America/Toronto:20291009T110000
DTEND;TZID=America/Toronto:20291009T120000
DTSTAMP:20260423T101038
CREATED:20260406T131817Z
LAST-MODIFIED:20260406T150926Z
UID:10006330-1886238000-1886241600@www.kwlifestyles.com
SUMMARY:Byte-Sized Tech – Your Questions Answered!
DESCRIPTION:Drop in for quick\, practical help with real estate technology! \nWhether it’s Command\, Realm\, DocuSign\, or anything else\, bring your questions for David and get answers on the spot. \nJoin anytime during the session\, stay as long as you need\, and leave with solutions.
URL:https://www.kwlifestyles.com/event/byte-sized-tech-your-questions-answered/2029-10-09/
LOCATION:Online
CATEGORIES:London
END:VEVENT
BEGIN:VEVENT
DTSTART;TZID=America/Toronto:20291010T110000
DTEND;TZID=America/Toronto:20291010T120000
DTSTAMP:20260423T101038
CREATED:20260406T131817Z
LAST-MODIFIED:20260406T150926Z
UID:10006331-1886324400-1886328000@www.kwlifestyles.com
SUMMARY:Byte-Sized Tech – Your Questions Answered!
DESCRIPTION:Drop in for quick\, practical help with real estate technology! \nWhether it’s Command\, Realm\, DocuSign\, or anything else\, bring your questions for David and get answers on the spot. \nJoin anytime during the session\, stay as long as you need\, and leave with solutions.
URL:https://www.kwlifestyles.com/event/byte-sized-tech-your-questions-answered/2029-10-10/
LOCATION:Online
CATEGORIES:London
END:VEVENT
BEGIN:VEVENT
DTSTART;TZID=America/Toronto:20291011T110000
DTEND;TZID=America/Toronto:20291011T120000
DTSTAMP:20260423T101038
CREATED:20260406T131817Z
LAST-MODIFIED:20260406T150926Z
UID:10006332-1886410800-1886414400@www.kwlifestyles.com
SUMMARY:Byte-Sized Tech – Your Questions Answered!
DESCRIPTION:Drop in for quick\, practical help with real estate technology! \nWhether it’s Command\, Realm\, DocuSign\, or anything else\, bring your questions for David and get answers on the spot. \nJoin anytime during the session\, stay as long as you need\, and leave with solutions.
URL:https://www.kwlifestyles.com/event/byte-sized-tech-your-questions-answered/2029-10-11/
LOCATION:Online
CATEGORIES:London
END:VEVENT
BEGIN:VEVENT
DTSTART;TZID=America/Toronto:20291015T110000
DTEND;TZID=America/Toronto:20291015T120000
DTSTAMP:20260423T101038
CREATED:20260406T131817Z
LAST-MODIFIED:20260406T150926Z
UID:10006333-1886756400-1886760000@www.kwlifestyles.com
SUMMARY:Byte-Sized Tech – Your Questions Answered!
DESCRIPTION:Drop in for quick\, practical help with real estate technology! \nWhether it’s Command\, Realm\, DocuSign\, or anything else\, bring your questions for David and get answers on the spot. \nJoin anytime during the session\, stay as long as you need\, and leave with solutions.
URL:https://www.kwlifestyles.com/event/byte-sized-tech-your-questions-answered/2029-10-15/
LOCATION:Online
CATEGORIES:London
END:VEVENT
END:VCALENDAR