BEGIN:VCALENDAR
VERSION:2.0
PRODID:-//Keller Williams Lifestyles Realty, Brokerage - ECPv6.15.20//NONSGML v1.0//EN
CALSCALE:GREGORIAN
METHOD:PUBLISH
X-ORIGINAL-URL:https://www.kwlifestyles.com
X-WR-CALDESC:Events for Keller Williams Lifestyles Realty, Brokerage
REFRESH-INTERVAL;VALUE=DURATION:PT1H
X-Robots-Tag:noindex
X-PUBLISHED-TTL:PT1H
BEGIN:VTIMEZONE
TZID:America/Toronto
BEGIN:DAYLIGHT
TZOFFSETFROM:-0500
TZOFFSETTO:-0400
TZNAME:EDT
DTSTART:20280312T070000
END:DAYLIGHT
BEGIN:STANDARD
TZOFFSETFROM:-0400
TZOFFSETTO:-0500
TZNAME:EST
DTSTART:20281105T060000
END:STANDARD
BEGIN:DAYLIGHT
TZOFFSETFROM:-0500
TZOFFSETTO:-0400
TZNAME:EDT
DTSTART:20290311T070000
END:DAYLIGHT
BEGIN:STANDARD
TZOFFSETFROM:-0400
TZOFFSETTO:-0500
TZNAME:EST
DTSTART:20291104T060000
END:STANDARD
BEGIN:DAYLIGHT
TZOFFSETFROM:-0500
TZOFFSETTO:-0400
TZNAME:EDT
DTSTART:20300310T070000
END:DAYLIGHT
BEGIN:STANDARD
TZOFFSETFROM:-0400
TZOFFSETTO:-0500
TZNAME:EST
DTSTART:20301103T060000
END:STANDARD
END:VTIMEZONE
BEGIN:VEVENT
DTSTART;TZID=America/Toronto:20290510T110000
DTEND;TZID=America/Toronto:20290510T120000
DTSTAMP:20260422T174735
CREATED:20260406T131817Z
LAST-MODIFIED:20260406T150926Z
UID:10006244-1873105200-1873108800@www.kwlifestyles.com
SUMMARY:Byte-Sized Tech – Your Questions Answered!
DESCRIPTION:Drop in for quick\, practical help with real estate technology! \nWhether it’s Command\, Realm\, DocuSign\, or anything else\, bring your questions for David and get answers on the spot. \nJoin anytime during the session\, stay as long as you need\, and leave with solutions.
URL:https://www.kwlifestyles.com/event/byte-sized-tech-your-questions-answered/2029-05-10/
LOCATION:Online
CATEGORIES:London
END:VEVENT
BEGIN:VEVENT
DTSTART;TZID=America/Toronto:20290514T110000
DTEND;TZID=America/Toronto:20290514T120000
DTSTAMP:20260422T174735
CREATED:20260406T131817Z
LAST-MODIFIED:20260406T150926Z
UID:10006245-1873450800-1873454400@www.kwlifestyles.com
SUMMARY:Byte-Sized Tech – Your Questions Answered!
DESCRIPTION:Drop in for quick\, practical help with real estate technology! \nWhether it’s Command\, Realm\, DocuSign\, or anything else\, bring your questions for David and get answers on the spot. \nJoin anytime during the session\, stay as long as you need\, and leave with solutions.
URL:https://www.kwlifestyles.com/event/byte-sized-tech-your-questions-answered/2029-05-14/
LOCATION:Online
CATEGORIES:London
END:VEVENT
BEGIN:VEVENT
DTSTART;TZID=America/Toronto:20290515T110000
DTEND;TZID=America/Toronto:20290515T120000
DTSTAMP:20260422T174735
CREATED:20260406T131817Z
LAST-MODIFIED:20260406T150926Z
UID:10006246-1873537200-1873540800@www.kwlifestyles.com
SUMMARY:Byte-Sized Tech – Your Questions Answered!
DESCRIPTION:Drop in for quick\, practical help with real estate technology! \nWhether it’s Command\, Realm\, DocuSign\, or anything else\, bring your questions for David and get answers on the spot. \nJoin anytime during the session\, stay as long as you need\, and leave with solutions.
URL:https://www.kwlifestyles.com/event/byte-sized-tech-your-questions-answered/2029-05-15/
LOCATION:Online
CATEGORIES:London
END:VEVENT
BEGIN:VEVENT
DTSTART;TZID=America/Toronto:20290516T110000
DTEND;TZID=America/Toronto:20290516T120000
DTSTAMP:20260422T174735
CREATED:20260406T131817Z
LAST-MODIFIED:20260406T150926Z
UID:10006247-1873623600-1873627200@www.kwlifestyles.com
SUMMARY:Byte-Sized Tech – Your Questions Answered!
DESCRIPTION:Drop in for quick\, practical help with real estate technology! \nWhether it’s Command\, Realm\, DocuSign\, or anything else\, bring your questions for David and get answers on the spot. \nJoin anytime during the session\, stay as long as you need\, and leave with solutions.
URL:https://www.kwlifestyles.com/event/byte-sized-tech-your-questions-answered/2029-05-16/
LOCATION:Online
CATEGORIES:London
END:VEVENT
BEGIN:VEVENT
DTSTART;TZID=America/Toronto:20290517T110000
DTEND;TZID=America/Toronto:20290517T120000
DTSTAMP:20260422T174735
CREATED:20260406T131817Z
LAST-MODIFIED:20260406T150926Z
UID:10006248-1873710000-1873713600@www.kwlifestyles.com
SUMMARY:Byte-Sized Tech – Your Questions Answered!
DESCRIPTION:Drop in for quick\, practical help with real estate technology! \nWhether it’s Command\, Realm\, DocuSign\, or anything else\, bring your questions for David and get answers on the spot. \nJoin anytime during the session\, stay as long as you need\, and leave with solutions.
URL:https://www.kwlifestyles.com/event/byte-sized-tech-your-questions-answered/2029-05-17/
LOCATION:Online
CATEGORIES:London
END:VEVENT
BEGIN:VEVENT
DTSTART;TZID=America/Toronto:20290521T110000
DTEND;TZID=America/Toronto:20290521T120000
DTSTAMP:20260422T174735
CREATED:20260406T131817Z
LAST-MODIFIED:20260406T150926Z
UID:10006249-1874055600-1874059200@www.kwlifestyles.com
SUMMARY:Byte-Sized Tech – Your Questions Answered!
DESCRIPTION:Drop in for quick\, practical help with real estate technology! \nWhether it’s Command\, Realm\, DocuSign\, or anything else\, bring your questions for David and get answers on the spot. \nJoin anytime during the session\, stay as long as you need\, and leave with solutions.
URL:https://www.kwlifestyles.com/event/byte-sized-tech-your-questions-answered/2029-05-21/
LOCATION:Online
CATEGORIES:London
END:VEVENT
BEGIN:VEVENT
DTSTART;TZID=America/Toronto:20290522T110000
DTEND;TZID=America/Toronto:20290522T120000
DTSTAMP:20260422T174735
CREATED:20260406T131817Z
LAST-MODIFIED:20260406T150926Z
UID:10006250-1874142000-1874145600@www.kwlifestyles.com
SUMMARY:Byte-Sized Tech – Your Questions Answered!
DESCRIPTION:Drop in for quick\, practical help with real estate technology! \nWhether it’s Command\, Realm\, DocuSign\, or anything else\, bring your questions for David and get answers on the spot. \nJoin anytime during the session\, stay as long as you need\, and leave with solutions.
URL:https://www.kwlifestyles.com/event/byte-sized-tech-your-questions-answered/2029-05-22/
LOCATION:Online
CATEGORIES:London
END:VEVENT
BEGIN:VEVENT
DTSTART;TZID=America/Toronto:20290523T110000
DTEND;TZID=America/Toronto:20290523T120000
DTSTAMP:20260422T174735
CREATED:20260406T131817Z
LAST-MODIFIED:20260406T150926Z
UID:10006251-1874228400-1874232000@www.kwlifestyles.com
SUMMARY:Byte-Sized Tech – Your Questions Answered!
DESCRIPTION:Drop in for quick\, practical help with real estate technology! \nWhether it’s Command\, Realm\, DocuSign\, or anything else\, bring your questions for David and get answers on the spot. \nJoin anytime during the session\, stay as long as you need\, and leave with solutions.
URL:https://www.kwlifestyles.com/event/byte-sized-tech-your-questions-answered/2029-05-23/
LOCATION:Online
CATEGORIES:London
END:VEVENT
BEGIN:VEVENT
DTSTART;TZID=America/Toronto:20290524T110000
DTEND;TZID=America/Toronto:20290524T120000
DTSTAMP:20260422T174735
CREATED:20260406T131817Z
LAST-MODIFIED:20260406T150926Z
UID:10006252-1874314800-1874318400@www.kwlifestyles.com
SUMMARY:Byte-Sized Tech – Your Questions Answered!
DESCRIPTION:Drop in for quick\, practical help with real estate technology! \nWhether it’s Command\, Realm\, DocuSign\, or anything else\, bring your questions for David and get answers on the spot. \nJoin anytime during the session\, stay as long as you need\, and leave with solutions.
URL:https://www.kwlifestyles.com/event/byte-sized-tech-your-questions-answered/2029-05-24/
LOCATION:Online
CATEGORIES:London
END:VEVENT
BEGIN:VEVENT
DTSTART;TZID=America/Toronto:20290528T110000
DTEND;TZID=America/Toronto:20290528T120000
DTSTAMP:20260422T174735
CREATED:20260406T131817Z
LAST-MODIFIED:20260406T150926Z
UID:10006253-1874660400-1874664000@www.kwlifestyles.com
SUMMARY:Byte-Sized Tech – Your Questions Answered!
DESCRIPTION:Drop in for quick\, practical help with real estate technology! \nWhether it’s Command\, Realm\, DocuSign\, or anything else\, bring your questions for David and get answers on the spot. \nJoin anytime during the session\, stay as long as you need\, and leave with solutions.
URL:https://www.kwlifestyles.com/event/byte-sized-tech-your-questions-answered/2029-05-28/
LOCATION:Online
CATEGORIES:London
END:VEVENT
BEGIN:VEVENT
DTSTART;TZID=America/Toronto:20290529T110000
DTEND;TZID=America/Toronto:20290529T120000
DTSTAMP:20260422T174735
CREATED:20260406T131817Z
LAST-MODIFIED:20260406T150926Z
UID:10006254-1874746800-1874750400@www.kwlifestyles.com
SUMMARY:Byte-Sized Tech – Your Questions Answered!
DESCRIPTION:Drop in for quick\, practical help with real estate technology! \nWhether it’s Command\, Realm\, DocuSign\, or anything else\, bring your questions for David and get answers on the spot. \nJoin anytime during the session\, stay as long as you need\, and leave with solutions.
URL:https://www.kwlifestyles.com/event/byte-sized-tech-your-questions-answered/2029-05-29/
LOCATION:Online
CATEGORIES:London
END:VEVENT
BEGIN:VEVENT
DTSTART;TZID=America/Toronto:20290530T110000
DTEND;TZID=America/Toronto:20290530T120000
DTSTAMP:20260422T174735
CREATED:20260406T131817Z
LAST-MODIFIED:20260406T150926Z
UID:10006255-1874833200-1874836800@www.kwlifestyles.com
SUMMARY:Byte-Sized Tech – Your Questions Answered!
DESCRIPTION:Drop in for quick\, practical help with real estate technology! \nWhether it’s Command\, Realm\, DocuSign\, or anything else\, bring your questions for David and get answers on the spot. \nJoin anytime during the session\, stay as long as you need\, and leave with solutions.
URL:https://www.kwlifestyles.com/event/byte-sized-tech-your-questions-answered/2029-05-30/
LOCATION:Online
CATEGORIES:London
END:VEVENT
BEGIN:VEVENT
DTSTART;TZID=America/Toronto:20290531T110000
DTEND;TZID=America/Toronto:20290531T120000
DTSTAMP:20260422T174735
CREATED:20260406T131817Z
LAST-MODIFIED:20260406T150926Z
UID:10006256-1874919600-1874923200@www.kwlifestyles.com
SUMMARY:Byte-Sized Tech – Your Questions Answered!
DESCRIPTION:Drop in for quick\, practical help with real estate technology! \nWhether it’s Command\, Realm\, DocuSign\, or anything else\, bring your questions for David and get answers on the spot. \nJoin anytime during the session\, stay as long as you need\, and leave with solutions.
URL:https://www.kwlifestyles.com/event/byte-sized-tech-your-questions-answered/2029-05-31/
LOCATION:Online
CATEGORIES:London
END:VEVENT
BEGIN:VEVENT
DTSTART;TZID=America/Toronto:20290604T110000
DTEND;TZID=America/Toronto:20290604T120000
DTSTAMP:20260422T174735
CREATED:20260406T131817Z
LAST-MODIFIED:20260406T150926Z
UID:10006257-1875265200-1875268800@www.kwlifestyles.com
SUMMARY:Byte-Sized Tech – Your Questions Answered!
DESCRIPTION:Drop in for quick\, practical help with real estate technology! \nWhether it’s Command\, Realm\, DocuSign\, or anything else\, bring your questions for David and get answers on the spot. \nJoin anytime during the session\, stay as long as you need\, and leave with solutions.
URL:https://www.kwlifestyles.com/event/byte-sized-tech-your-questions-answered/2029-06-04/
LOCATION:Online
CATEGORIES:London
END:VEVENT
BEGIN:VEVENT
DTSTART;TZID=America/Toronto:20290605T110000
DTEND;TZID=America/Toronto:20290605T120000
DTSTAMP:20260422T174735
CREATED:20260406T131817Z
LAST-MODIFIED:20260406T150926Z
UID:10006258-1875351600-1875355200@www.kwlifestyles.com
SUMMARY:Byte-Sized Tech – Your Questions Answered!
DESCRIPTION:Drop in for quick\, practical help with real estate technology! \nWhether it’s Command\, Realm\, DocuSign\, or anything else\, bring your questions for David and get answers on the spot. \nJoin anytime during the session\, stay as long as you need\, and leave with solutions.
URL:https://www.kwlifestyles.com/event/byte-sized-tech-your-questions-answered/2029-06-05/
LOCATION:Online
CATEGORIES:London
END:VEVENT
BEGIN:VEVENT
DTSTART;TZID=America/Toronto:20290606T110000
DTEND;TZID=America/Toronto:20290606T120000
DTSTAMP:20260422T174735
CREATED:20260406T131817Z
LAST-MODIFIED:20260406T150926Z
UID:10006259-1875438000-1875441600@www.kwlifestyles.com
SUMMARY:Byte-Sized Tech – Your Questions Answered!
DESCRIPTION:Drop in for quick\, practical help with real estate technology! \nWhether it’s Command\, Realm\, DocuSign\, or anything else\, bring your questions for David and get answers on the spot. \nJoin anytime during the session\, stay as long as you need\, and leave with solutions.
URL:https://www.kwlifestyles.com/event/byte-sized-tech-your-questions-answered/2029-06-06/
LOCATION:Online
CATEGORIES:London
END:VEVENT
BEGIN:VEVENT
DTSTART;TZID=America/Toronto:20290607T110000
DTEND;TZID=America/Toronto:20290607T120000
DTSTAMP:20260422T174735
CREATED:20260406T131817Z
LAST-MODIFIED:20260406T150926Z
UID:10006260-1875524400-1875528000@www.kwlifestyles.com
SUMMARY:Byte-Sized Tech – Your Questions Answered!
DESCRIPTION:Drop in for quick\, practical help with real estate technology! \nWhether it’s Command\, Realm\, DocuSign\, or anything else\, bring your questions for David and get answers on the spot. \nJoin anytime during the session\, stay as long as you need\, and leave with solutions.
URL:https://www.kwlifestyles.com/event/byte-sized-tech-your-questions-answered/2029-06-07/
LOCATION:Online
CATEGORIES:London
END:VEVENT
BEGIN:VEVENT
DTSTART;TZID=America/Toronto:20290611T110000
DTEND;TZID=America/Toronto:20290611T120000
DTSTAMP:20260422T174735
CREATED:20260406T131817Z
LAST-MODIFIED:20260406T150926Z
UID:10006261-1875870000-1875873600@www.kwlifestyles.com
SUMMARY:Byte-Sized Tech – Your Questions Answered!
DESCRIPTION:Drop in for quick\, practical help with real estate technology! \nWhether it’s Command\, Realm\, DocuSign\, or anything else\, bring your questions for David and get answers on the spot. \nJoin anytime during the session\, stay as long as you need\, and leave with solutions.
URL:https://www.kwlifestyles.com/event/byte-sized-tech-your-questions-answered/2029-06-11/
LOCATION:Online
CATEGORIES:London
END:VEVENT
BEGIN:VEVENT
DTSTART;TZID=America/Toronto:20290612T110000
DTEND;TZID=America/Toronto:20290612T120000
DTSTAMP:20260422T174735
CREATED:20260406T131817Z
LAST-MODIFIED:20260406T150926Z
UID:10006262-1875956400-1875960000@www.kwlifestyles.com
SUMMARY:Byte-Sized Tech – Your Questions Answered!
DESCRIPTION:Drop in for quick\, practical help with real estate technology! \nWhether it’s Command\, Realm\, DocuSign\, or anything else\, bring your questions for David and get answers on the spot. \nJoin anytime during the session\, stay as long as you need\, and leave with solutions.
URL:https://www.kwlifestyles.com/event/byte-sized-tech-your-questions-answered/2029-06-12/
LOCATION:Online
CATEGORIES:London
END:VEVENT
BEGIN:VEVENT
DTSTART;TZID=America/Toronto:20290613T110000
DTEND;TZID=America/Toronto:20290613T120000
DTSTAMP:20260422T174735
CREATED:20260406T131817Z
LAST-MODIFIED:20260406T150926Z
UID:10006263-1876042800-1876046400@www.kwlifestyles.com
SUMMARY:Byte-Sized Tech – Your Questions Answered!
DESCRIPTION:Drop in for quick\, practical help with real estate technology! \nWhether it’s Command\, Realm\, DocuSign\, or anything else\, bring your questions for David and get answers on the spot. \nJoin anytime during the session\, stay as long as you need\, and leave with solutions.
URL:https://www.kwlifestyles.com/event/byte-sized-tech-your-questions-answered/2029-06-13/
LOCATION:Online
CATEGORIES:London
END:VEVENT
BEGIN:VEVENT
DTSTART;TZID=America/Toronto:20290614T110000
DTEND;TZID=America/Toronto:20290614T120000
DTSTAMP:20260422T174735
CREATED:20260406T131817Z
LAST-MODIFIED:20260406T150926Z
UID:10006264-1876129200-1876132800@www.kwlifestyles.com
SUMMARY:Byte-Sized Tech – Your Questions Answered!
DESCRIPTION:Drop in for quick\, practical help with real estate technology! \nWhether it’s Command\, Realm\, DocuSign\, or anything else\, bring your questions for David and get answers on the spot. \nJoin anytime during the session\, stay as long as you need\, and leave with solutions.
URL:https://www.kwlifestyles.com/event/byte-sized-tech-your-questions-answered/2029-06-14/
LOCATION:Online
CATEGORIES:London
END:VEVENT
BEGIN:VEVENT
DTSTART;TZID=America/Toronto:20290618T110000
DTEND;TZID=America/Toronto:20290618T120000
DTSTAMP:20260422T174735
CREATED:20260406T131817Z
LAST-MODIFIED:20260406T150926Z
UID:10006265-1876474800-1876478400@www.kwlifestyles.com
SUMMARY:Byte-Sized Tech – Your Questions Answered!
DESCRIPTION:Drop in for quick\, practical help with real estate technology! \nWhether it’s Command\, Realm\, DocuSign\, or anything else\, bring your questions for David and get answers on the spot. \nJoin anytime during the session\, stay as long as you need\, and leave with solutions.
URL:https://www.kwlifestyles.com/event/byte-sized-tech-your-questions-answered/2029-06-18/
LOCATION:Online
CATEGORIES:London
END:VEVENT
BEGIN:VEVENT
DTSTART;TZID=America/Toronto:20290619T110000
DTEND;TZID=America/Toronto:20290619T120000
DTSTAMP:20260422T174735
CREATED:20260406T131817Z
LAST-MODIFIED:20260406T150926Z
UID:10006266-1876561200-1876564800@www.kwlifestyles.com
SUMMARY:Byte-Sized Tech – Your Questions Answered!
DESCRIPTION:Drop in for quick\, practical help with real estate technology! \nWhether it’s Command\, Realm\, DocuSign\, or anything else\, bring your questions for David and get answers on the spot. \nJoin anytime during the session\, stay as long as you need\, and leave with solutions.
URL:https://www.kwlifestyles.com/event/byte-sized-tech-your-questions-answered/2029-06-19/
LOCATION:Online
CATEGORIES:London
END:VEVENT
BEGIN:VEVENT
DTSTART;TZID=America/Toronto:20290620T110000
DTEND;TZID=America/Toronto:20290620T120000
DTSTAMP:20260422T174735
CREATED:20260406T131817Z
LAST-MODIFIED:20260406T150926Z
UID:10006267-1876647600-1876651200@www.kwlifestyles.com
SUMMARY:Byte-Sized Tech – Your Questions Answered!
DESCRIPTION:Drop in for quick\, practical help with real estate technology! \nWhether it’s Command\, Realm\, DocuSign\, or anything else\, bring your questions for David and get answers on the spot. \nJoin anytime during the session\, stay as long as you need\, and leave with solutions.
URL:https://www.kwlifestyles.com/event/byte-sized-tech-your-questions-answered/2029-06-20/
LOCATION:Online
CATEGORIES:London
END:VEVENT
BEGIN:VEVENT
DTSTART;TZID=America/Toronto:20290621T110000
DTEND;TZID=America/Toronto:20290621T120000
DTSTAMP:20260422T174735
CREATED:20260406T131817Z
LAST-MODIFIED:20260406T150926Z
UID:10006268-1876734000-1876737600@www.kwlifestyles.com
SUMMARY:Byte-Sized Tech – Your Questions Answered!
DESCRIPTION:Drop in for quick\, practical help with real estate technology! \nWhether it’s Command\, Realm\, DocuSign\, or anything else\, bring your questions for David and get answers on the spot. \nJoin anytime during the session\, stay as long as you need\, and leave with solutions.
URL:https://www.kwlifestyles.com/event/byte-sized-tech-your-questions-answered/2029-06-21/
LOCATION:Online
CATEGORIES:London
END:VEVENT
BEGIN:VEVENT
DTSTART;TZID=America/Toronto:20290625T110000
DTEND;TZID=America/Toronto:20290625T120000
DTSTAMP:20260422T174735
CREATED:20260406T131817Z
LAST-MODIFIED:20260406T150926Z
UID:10006269-1877079600-1877083200@www.kwlifestyles.com
SUMMARY:Byte-Sized Tech – Your Questions Answered!
DESCRIPTION:Drop in for quick\, practical help with real estate technology! \nWhether it’s Command\, Realm\, DocuSign\, or anything else\, bring your questions for David and get answers on the spot. \nJoin anytime during the session\, stay as long as you need\, and leave with solutions.
URL:https://www.kwlifestyles.com/event/byte-sized-tech-your-questions-answered/2029-06-25/
LOCATION:Online
CATEGORIES:London
END:VEVENT
BEGIN:VEVENT
DTSTART;TZID=America/Toronto:20290626T110000
DTEND;TZID=America/Toronto:20290626T120000
DTSTAMP:20260422T174735
CREATED:20260406T131817Z
LAST-MODIFIED:20260406T150926Z
UID:10006270-1877166000-1877169600@www.kwlifestyles.com
SUMMARY:Byte-Sized Tech – Your Questions Answered!
DESCRIPTION:Drop in for quick\, practical help with real estate technology! \nWhether it’s Command\, Realm\, DocuSign\, or anything else\, bring your questions for David and get answers on the spot. \nJoin anytime during the session\, stay as long as you need\, and leave with solutions.
URL:https://www.kwlifestyles.com/event/byte-sized-tech-your-questions-answered/2029-06-26/
LOCATION:Online
CATEGORIES:London
END:VEVENT
BEGIN:VEVENT
DTSTART;TZID=America/Toronto:20290627T110000
DTEND;TZID=America/Toronto:20290627T120000
DTSTAMP:20260422T174735
CREATED:20260406T131817Z
LAST-MODIFIED:20260406T150926Z
UID:10006271-1877252400-1877256000@www.kwlifestyles.com
SUMMARY:Byte-Sized Tech – Your Questions Answered!
DESCRIPTION:Drop in for quick\, practical help with real estate technology! \nWhether it’s Command\, Realm\, DocuSign\, or anything else\, bring your questions for David and get answers on the spot. \nJoin anytime during the session\, stay as long as you need\, and leave with solutions.
URL:https://www.kwlifestyles.com/event/byte-sized-tech-your-questions-answered/2029-06-27/
LOCATION:Online
CATEGORIES:London
END:VEVENT
BEGIN:VEVENT
DTSTART;TZID=America/Toronto:20290628T110000
DTEND;TZID=America/Toronto:20290628T120000
DTSTAMP:20260422T174735
CREATED:20260406T131817Z
LAST-MODIFIED:20260406T150926Z
UID:10006272-1877338800-1877342400@www.kwlifestyles.com
SUMMARY:Byte-Sized Tech – Your Questions Answered!
DESCRIPTION:Drop in for quick\, practical help with real estate technology! \nWhether it’s Command\, Realm\, DocuSign\, or anything else\, bring your questions for David and get answers on the spot. \nJoin anytime during the session\, stay as long as you need\, and leave with solutions.
URL:https://www.kwlifestyles.com/event/byte-sized-tech-your-questions-answered/2029-06-28/
LOCATION:Online
CATEGORIES:London
END:VEVENT
BEGIN:VEVENT
DTSTART;TZID=America/Toronto:20290702T110000
DTEND;TZID=America/Toronto:20290702T120000
DTSTAMP:20260422T174735
CREATED:20260406T131817Z
LAST-MODIFIED:20260406T150926Z
UID:10006273-1877684400-1877688000@www.kwlifestyles.com
SUMMARY:Byte-Sized Tech – Your Questions Answered!
DESCRIPTION:Drop in for quick\, practical help with real estate technology! \nWhether it’s Command\, Realm\, DocuSign\, or anything else\, bring your questions for David and get answers on the spot. \nJoin anytime during the session\, stay as long as you need\, and leave with solutions.
URL:https://www.kwlifestyles.com/event/byte-sized-tech-your-questions-answered/2029-07-02/
LOCATION:Online
CATEGORIES:London
END:VEVENT
END:VCALENDAR