BEGIN:VCALENDAR
VERSION:2.0
PRODID:-//Keller Williams Lifestyles Realty, Brokerage - ECPv6.15.20//NONSGML v1.0//EN
CALSCALE:GREGORIAN
METHOD:PUBLISH
X-ORIGINAL-URL:https://www.kwlifestyles.com
X-WR-CALDESC:Events for Keller Williams Lifestyles Realty, Brokerage
REFRESH-INTERVAL;VALUE=DURATION:PT1H
X-Robots-Tag:noindex
X-PUBLISHED-TTL:PT1H
BEGIN:VTIMEZONE
TZID:America/Toronto
BEGIN:DAYLIGHT
TZOFFSETFROM:-0500
TZOFFSETTO:-0400
TZNAME:EDT
DTSTART:20280312T070000
END:DAYLIGHT
BEGIN:STANDARD
TZOFFSETFROM:-0400
TZOFFSETTO:-0500
TZNAME:EST
DTSTART:20281105T060000
END:STANDARD
BEGIN:DAYLIGHT
TZOFFSETFROM:-0500
TZOFFSETTO:-0400
TZNAME:EDT
DTSTART:20290311T070000
END:DAYLIGHT
BEGIN:STANDARD
TZOFFSETFROM:-0400
TZOFFSETTO:-0500
TZNAME:EST
DTSTART:20291104T060000
END:STANDARD
BEGIN:DAYLIGHT
TZOFFSETFROM:-0500
TZOFFSETTO:-0400
TZNAME:EDT
DTSTART:20300310T070000
END:DAYLIGHT
BEGIN:STANDARD
TZOFFSETFROM:-0400
TZOFFSETTO:-0500
TZNAME:EST
DTSTART:20301103T060000
END:STANDARD
END:VTIMEZONE
BEGIN:VEVENT
DTSTART;TZID=America/Toronto:20290308T110000
DTEND;TZID=America/Toronto:20290308T120000
DTSTAMP:20260422T130927
CREATED:20260406T131817Z
LAST-MODIFIED:20260406T150926Z
UID:10006208-1867662000-1867665600@www.kwlifestyles.com
SUMMARY:Byte-Sized Tech – Your Questions Answered!
DESCRIPTION:Drop in for quick\, practical help with real estate technology! \nWhether it’s Command\, Realm\, DocuSign\, or anything else\, bring your questions for David and get answers on the spot. \nJoin anytime during the session\, stay as long as you need\, and leave with solutions.
URL:https://www.kwlifestyles.com/event/byte-sized-tech-your-questions-answered/2029-03-08/
LOCATION:Online
CATEGORIES:London
END:VEVENT
BEGIN:VEVENT
DTSTART;TZID=America/Toronto:20290312T110000
DTEND;TZID=America/Toronto:20290312T120000
DTSTAMP:20260422T130927
CREATED:20260406T131817Z
LAST-MODIFIED:20260406T150926Z
UID:10006209-1868007600-1868011200@www.kwlifestyles.com
SUMMARY:Byte-Sized Tech – Your Questions Answered!
DESCRIPTION:Drop in for quick\, practical help with real estate technology! \nWhether it’s Command\, Realm\, DocuSign\, or anything else\, bring your questions for David and get answers on the spot. \nJoin anytime during the session\, stay as long as you need\, and leave with solutions.
URL:https://www.kwlifestyles.com/event/byte-sized-tech-your-questions-answered/2029-03-12/
LOCATION:Online
CATEGORIES:London
END:VEVENT
BEGIN:VEVENT
DTSTART;TZID=America/Toronto:20290313T110000
DTEND;TZID=America/Toronto:20290313T120000
DTSTAMP:20260422T130927
CREATED:20260406T131817Z
LAST-MODIFIED:20260406T150926Z
UID:10006210-1868094000-1868097600@www.kwlifestyles.com
SUMMARY:Byte-Sized Tech – Your Questions Answered!
DESCRIPTION:Drop in for quick\, practical help with real estate technology! \nWhether it’s Command\, Realm\, DocuSign\, or anything else\, bring your questions for David and get answers on the spot. \nJoin anytime during the session\, stay as long as you need\, and leave with solutions.
URL:https://www.kwlifestyles.com/event/byte-sized-tech-your-questions-answered/2029-03-13/
LOCATION:Online
CATEGORIES:London
END:VEVENT
BEGIN:VEVENT
DTSTART;TZID=America/Toronto:20290314T110000
DTEND;TZID=America/Toronto:20290314T120000
DTSTAMP:20260422T130927
CREATED:20260406T131817Z
LAST-MODIFIED:20260406T150926Z
UID:10006211-1868180400-1868184000@www.kwlifestyles.com
SUMMARY:Byte-Sized Tech – Your Questions Answered!
DESCRIPTION:Drop in for quick\, practical help with real estate technology! \nWhether it’s Command\, Realm\, DocuSign\, or anything else\, bring your questions for David and get answers on the spot. \nJoin anytime during the session\, stay as long as you need\, and leave with solutions.
URL:https://www.kwlifestyles.com/event/byte-sized-tech-your-questions-answered/2029-03-14/
LOCATION:Online
CATEGORIES:London
END:VEVENT
BEGIN:VEVENT
DTSTART;TZID=America/Toronto:20290315T110000
DTEND;TZID=America/Toronto:20290315T120000
DTSTAMP:20260422T130927
CREATED:20260406T131817Z
LAST-MODIFIED:20260406T150926Z
UID:10006212-1868266800-1868270400@www.kwlifestyles.com
SUMMARY:Byte-Sized Tech – Your Questions Answered!
DESCRIPTION:Drop in for quick\, practical help with real estate technology! \nWhether it’s Command\, Realm\, DocuSign\, or anything else\, bring your questions for David and get answers on the spot. \nJoin anytime during the session\, stay as long as you need\, and leave with solutions.
URL:https://www.kwlifestyles.com/event/byte-sized-tech-your-questions-answered/2029-03-15/
LOCATION:Online
CATEGORIES:London
END:VEVENT
BEGIN:VEVENT
DTSTART;TZID=America/Toronto:20290319T110000
DTEND;TZID=America/Toronto:20290319T120000
DTSTAMP:20260422T130927
CREATED:20260406T131817Z
LAST-MODIFIED:20260406T150926Z
UID:10006213-1868612400-1868616000@www.kwlifestyles.com
SUMMARY:Byte-Sized Tech – Your Questions Answered!
DESCRIPTION:Drop in for quick\, practical help with real estate technology! \nWhether it’s Command\, Realm\, DocuSign\, or anything else\, bring your questions for David and get answers on the spot. \nJoin anytime during the session\, stay as long as you need\, and leave with solutions.
URL:https://www.kwlifestyles.com/event/byte-sized-tech-your-questions-answered/2029-03-19/
LOCATION:Online
CATEGORIES:London
END:VEVENT
BEGIN:VEVENT
DTSTART;TZID=America/Toronto:20290320T110000
DTEND;TZID=America/Toronto:20290320T120000
DTSTAMP:20260422T130927
CREATED:20260406T131817Z
LAST-MODIFIED:20260406T150926Z
UID:10006214-1868698800-1868702400@www.kwlifestyles.com
SUMMARY:Byte-Sized Tech – Your Questions Answered!
DESCRIPTION:Drop in for quick\, practical help with real estate technology! \nWhether it’s Command\, Realm\, DocuSign\, or anything else\, bring your questions for David and get answers on the spot. \nJoin anytime during the session\, stay as long as you need\, and leave with solutions.
URL:https://www.kwlifestyles.com/event/byte-sized-tech-your-questions-answered/2029-03-20/
LOCATION:Online
CATEGORIES:London
END:VEVENT
BEGIN:VEVENT
DTSTART;TZID=America/Toronto:20290321T110000
DTEND;TZID=America/Toronto:20290321T120000
DTSTAMP:20260422T130927
CREATED:20260406T131817Z
LAST-MODIFIED:20260406T150926Z
UID:10006215-1868785200-1868788800@www.kwlifestyles.com
SUMMARY:Byte-Sized Tech – Your Questions Answered!
DESCRIPTION:Drop in for quick\, practical help with real estate technology! \nWhether it’s Command\, Realm\, DocuSign\, or anything else\, bring your questions for David and get answers on the spot. \nJoin anytime during the session\, stay as long as you need\, and leave with solutions.
URL:https://www.kwlifestyles.com/event/byte-sized-tech-your-questions-answered/2029-03-21/
LOCATION:Online
CATEGORIES:London
END:VEVENT
BEGIN:VEVENT
DTSTART;TZID=America/Toronto:20290322T110000
DTEND;TZID=America/Toronto:20290322T120000
DTSTAMP:20260422T130927
CREATED:20260406T131817Z
LAST-MODIFIED:20260406T150926Z
UID:10006216-1868871600-1868875200@www.kwlifestyles.com
SUMMARY:Byte-Sized Tech – Your Questions Answered!
DESCRIPTION:Drop in for quick\, practical help with real estate technology! \nWhether it’s Command\, Realm\, DocuSign\, or anything else\, bring your questions for David and get answers on the spot. \nJoin anytime during the session\, stay as long as you need\, and leave with solutions.
URL:https://www.kwlifestyles.com/event/byte-sized-tech-your-questions-answered/2029-03-22/
LOCATION:Online
CATEGORIES:London
END:VEVENT
BEGIN:VEVENT
DTSTART;TZID=America/Toronto:20290326T110000
DTEND;TZID=America/Toronto:20290326T120000
DTSTAMP:20260422T130927
CREATED:20260406T131817Z
LAST-MODIFIED:20260406T150926Z
UID:10006217-1869217200-1869220800@www.kwlifestyles.com
SUMMARY:Byte-Sized Tech – Your Questions Answered!
DESCRIPTION:Drop in for quick\, practical help with real estate technology! \nWhether it’s Command\, Realm\, DocuSign\, or anything else\, bring your questions for David and get answers on the spot. \nJoin anytime during the session\, stay as long as you need\, and leave with solutions.
URL:https://www.kwlifestyles.com/event/byte-sized-tech-your-questions-answered/2029-03-26/
LOCATION:Online
CATEGORIES:London
END:VEVENT
BEGIN:VEVENT
DTSTART;TZID=America/Toronto:20290327T110000
DTEND;TZID=America/Toronto:20290327T120000
DTSTAMP:20260422T130927
CREATED:20260406T131817Z
LAST-MODIFIED:20260406T150926Z
UID:10006218-1869303600-1869307200@www.kwlifestyles.com
SUMMARY:Byte-Sized Tech – Your Questions Answered!
DESCRIPTION:Drop in for quick\, practical help with real estate technology! \nWhether it’s Command\, Realm\, DocuSign\, or anything else\, bring your questions for David and get answers on the spot. \nJoin anytime during the session\, stay as long as you need\, and leave with solutions.
URL:https://www.kwlifestyles.com/event/byte-sized-tech-your-questions-answered/2029-03-27/
LOCATION:Online
CATEGORIES:London
END:VEVENT
BEGIN:VEVENT
DTSTART;TZID=America/Toronto:20290328T110000
DTEND;TZID=America/Toronto:20290328T120000
DTSTAMP:20260422T130927
CREATED:20260406T131817Z
LAST-MODIFIED:20260406T150926Z
UID:10006219-1869390000-1869393600@www.kwlifestyles.com
SUMMARY:Byte-Sized Tech – Your Questions Answered!
DESCRIPTION:Drop in for quick\, practical help with real estate technology! \nWhether it’s Command\, Realm\, DocuSign\, or anything else\, bring your questions for David and get answers on the spot. \nJoin anytime during the session\, stay as long as you need\, and leave with solutions.
URL:https://www.kwlifestyles.com/event/byte-sized-tech-your-questions-answered/2029-03-28/
LOCATION:Online
CATEGORIES:London
END:VEVENT
BEGIN:VEVENT
DTSTART;TZID=America/Toronto:20290329T110000
DTEND;TZID=America/Toronto:20290329T120000
DTSTAMP:20260422T130927
CREATED:20260406T131817Z
LAST-MODIFIED:20260406T150926Z
UID:10006220-1869476400-1869480000@www.kwlifestyles.com
SUMMARY:Byte-Sized Tech – Your Questions Answered!
DESCRIPTION:Drop in for quick\, practical help with real estate technology! \nWhether it’s Command\, Realm\, DocuSign\, or anything else\, bring your questions for David and get answers on the spot. \nJoin anytime during the session\, stay as long as you need\, and leave with solutions.
URL:https://www.kwlifestyles.com/event/byte-sized-tech-your-questions-answered/2029-03-29/
LOCATION:Online
CATEGORIES:London
END:VEVENT
BEGIN:VEVENT
DTSTART;TZID=America/Toronto:20290402T110000
DTEND;TZID=America/Toronto:20290402T120000
DTSTAMP:20260422T130927
CREATED:20260406T131817Z
LAST-MODIFIED:20260406T150926Z
UID:10006221-1869822000-1869825600@www.kwlifestyles.com
SUMMARY:Byte-Sized Tech – Your Questions Answered!
DESCRIPTION:Drop in for quick\, practical help with real estate technology! \nWhether it’s Command\, Realm\, DocuSign\, or anything else\, bring your questions for David and get answers on the spot. \nJoin anytime during the session\, stay as long as you need\, and leave with solutions.
URL:https://www.kwlifestyles.com/event/byte-sized-tech-your-questions-answered/2029-04-02/
LOCATION:Online
CATEGORIES:London
END:VEVENT
BEGIN:VEVENT
DTSTART;TZID=America/Toronto:20290403T110000
DTEND;TZID=America/Toronto:20290403T120000
DTSTAMP:20260422T130927
CREATED:20260406T131817Z
LAST-MODIFIED:20260406T150926Z
UID:10006222-1869908400-1869912000@www.kwlifestyles.com
SUMMARY:Byte-Sized Tech – Your Questions Answered!
DESCRIPTION:Drop in for quick\, practical help with real estate technology! \nWhether it’s Command\, Realm\, DocuSign\, or anything else\, bring your questions for David and get answers on the spot. \nJoin anytime during the session\, stay as long as you need\, and leave with solutions.
URL:https://www.kwlifestyles.com/event/byte-sized-tech-your-questions-answered/2029-04-03/
LOCATION:Online
CATEGORIES:London
END:VEVENT
BEGIN:VEVENT
DTSTART;TZID=America/Toronto:20290404T110000
DTEND;TZID=America/Toronto:20290404T120000
DTSTAMP:20260422T130927
CREATED:20260406T131817Z
LAST-MODIFIED:20260406T150926Z
UID:10006223-1869994800-1869998400@www.kwlifestyles.com
SUMMARY:Byte-Sized Tech – Your Questions Answered!
DESCRIPTION:Drop in for quick\, practical help with real estate technology! \nWhether it’s Command\, Realm\, DocuSign\, or anything else\, bring your questions for David and get answers on the spot. \nJoin anytime during the session\, stay as long as you need\, and leave with solutions.
URL:https://www.kwlifestyles.com/event/byte-sized-tech-your-questions-answered/2029-04-04/
LOCATION:Online
CATEGORIES:London
END:VEVENT
BEGIN:VEVENT
DTSTART;TZID=America/Toronto:20290405T110000
DTEND;TZID=America/Toronto:20290405T120000
DTSTAMP:20260422T130927
CREATED:20260406T131817Z
LAST-MODIFIED:20260406T150926Z
UID:10006224-1870081200-1870084800@www.kwlifestyles.com
SUMMARY:Byte-Sized Tech – Your Questions Answered!
DESCRIPTION:Drop in for quick\, practical help with real estate technology! \nWhether it’s Command\, Realm\, DocuSign\, or anything else\, bring your questions for David and get answers on the spot. \nJoin anytime during the session\, stay as long as you need\, and leave with solutions.
URL:https://www.kwlifestyles.com/event/byte-sized-tech-your-questions-answered/2029-04-05/
LOCATION:Online
CATEGORIES:London
END:VEVENT
BEGIN:VEVENT
DTSTART;TZID=America/Toronto:20290409T110000
DTEND;TZID=America/Toronto:20290409T120000
DTSTAMP:20260422T130927
CREATED:20260406T131817Z
LAST-MODIFIED:20260406T150926Z
UID:10006225-1870426800-1870430400@www.kwlifestyles.com
SUMMARY:Byte-Sized Tech – Your Questions Answered!
DESCRIPTION:Drop in for quick\, practical help with real estate technology! \nWhether it’s Command\, Realm\, DocuSign\, or anything else\, bring your questions for David and get answers on the spot. \nJoin anytime during the session\, stay as long as you need\, and leave with solutions.
URL:https://www.kwlifestyles.com/event/byte-sized-tech-your-questions-answered/2029-04-09/
LOCATION:Online
CATEGORIES:London
END:VEVENT
BEGIN:VEVENT
DTSTART;TZID=America/Toronto:20290410T110000
DTEND;TZID=America/Toronto:20290410T120000
DTSTAMP:20260422T130927
CREATED:20260406T131817Z
LAST-MODIFIED:20260406T150926Z
UID:10006226-1870513200-1870516800@www.kwlifestyles.com
SUMMARY:Byte-Sized Tech – Your Questions Answered!
DESCRIPTION:Drop in for quick\, practical help with real estate technology! \nWhether it’s Command\, Realm\, DocuSign\, or anything else\, bring your questions for David and get answers on the spot. \nJoin anytime during the session\, stay as long as you need\, and leave with solutions.
URL:https://www.kwlifestyles.com/event/byte-sized-tech-your-questions-answered/2029-04-10/
LOCATION:Online
CATEGORIES:London
END:VEVENT
BEGIN:VEVENT
DTSTART;TZID=America/Toronto:20290411T110000
DTEND;TZID=America/Toronto:20290411T120000
DTSTAMP:20260422T130927
CREATED:20260406T131817Z
LAST-MODIFIED:20260406T150926Z
UID:10006227-1870599600-1870603200@www.kwlifestyles.com
SUMMARY:Byte-Sized Tech – Your Questions Answered!
DESCRIPTION:Drop in for quick\, practical help with real estate technology! \nWhether it’s Command\, Realm\, DocuSign\, or anything else\, bring your questions for David and get answers on the spot. \nJoin anytime during the session\, stay as long as you need\, and leave with solutions.
URL:https://www.kwlifestyles.com/event/byte-sized-tech-your-questions-answered/2029-04-11/
LOCATION:Online
CATEGORIES:London
END:VEVENT
BEGIN:VEVENT
DTSTART;TZID=America/Toronto:20290412T110000
DTEND;TZID=America/Toronto:20290412T120000
DTSTAMP:20260422T130927
CREATED:20260406T131817Z
LAST-MODIFIED:20260406T150926Z
UID:10006228-1870686000-1870689600@www.kwlifestyles.com
SUMMARY:Byte-Sized Tech – Your Questions Answered!
DESCRIPTION:Drop in for quick\, practical help with real estate technology! \nWhether it’s Command\, Realm\, DocuSign\, or anything else\, bring your questions for David and get answers on the spot. \nJoin anytime during the session\, stay as long as you need\, and leave with solutions.
URL:https://www.kwlifestyles.com/event/byte-sized-tech-your-questions-answered/2029-04-12/
LOCATION:Online
CATEGORIES:London
END:VEVENT
BEGIN:VEVENT
DTSTART;TZID=America/Toronto:20290416T110000
DTEND;TZID=America/Toronto:20290416T120000
DTSTAMP:20260422T130927
CREATED:20260406T131817Z
LAST-MODIFIED:20260406T150926Z
UID:10006229-1871031600-1871035200@www.kwlifestyles.com
SUMMARY:Byte-Sized Tech – Your Questions Answered!
DESCRIPTION:Drop in for quick\, practical help with real estate technology! \nWhether it’s Command\, Realm\, DocuSign\, or anything else\, bring your questions for David and get answers on the spot. \nJoin anytime during the session\, stay as long as you need\, and leave with solutions.
URL:https://www.kwlifestyles.com/event/byte-sized-tech-your-questions-answered/2029-04-16/
LOCATION:Online
CATEGORIES:London
END:VEVENT
BEGIN:VEVENT
DTSTART;TZID=America/Toronto:20290417T110000
DTEND;TZID=America/Toronto:20290417T120000
DTSTAMP:20260422T130927
CREATED:20260406T131817Z
LAST-MODIFIED:20260406T150926Z
UID:10006230-1871118000-1871121600@www.kwlifestyles.com
SUMMARY:Byte-Sized Tech – Your Questions Answered!
DESCRIPTION:Drop in for quick\, practical help with real estate technology! \nWhether it’s Command\, Realm\, DocuSign\, or anything else\, bring your questions for David and get answers on the spot. \nJoin anytime during the session\, stay as long as you need\, and leave with solutions.
URL:https://www.kwlifestyles.com/event/byte-sized-tech-your-questions-answered/2029-04-17/
LOCATION:Online
CATEGORIES:London
END:VEVENT
BEGIN:VEVENT
DTSTART;TZID=America/Toronto:20290418T110000
DTEND;TZID=America/Toronto:20290418T120000
DTSTAMP:20260422T130927
CREATED:20260406T131817Z
LAST-MODIFIED:20260406T150926Z
UID:10006231-1871204400-1871208000@www.kwlifestyles.com
SUMMARY:Byte-Sized Tech – Your Questions Answered!
DESCRIPTION:Drop in for quick\, practical help with real estate technology! \nWhether it’s Command\, Realm\, DocuSign\, or anything else\, bring your questions for David and get answers on the spot. \nJoin anytime during the session\, stay as long as you need\, and leave with solutions.
URL:https://www.kwlifestyles.com/event/byte-sized-tech-your-questions-answered/2029-04-18/
LOCATION:Online
CATEGORIES:London
END:VEVENT
BEGIN:VEVENT
DTSTART;TZID=America/Toronto:20290419T110000
DTEND;TZID=America/Toronto:20290419T120000
DTSTAMP:20260422T130927
CREATED:20260406T131817Z
LAST-MODIFIED:20260406T150926Z
UID:10006232-1871290800-1871294400@www.kwlifestyles.com
SUMMARY:Byte-Sized Tech – Your Questions Answered!
DESCRIPTION:Drop in for quick\, practical help with real estate technology! \nWhether it’s Command\, Realm\, DocuSign\, or anything else\, bring your questions for David and get answers on the spot. \nJoin anytime during the session\, stay as long as you need\, and leave with solutions.
URL:https://www.kwlifestyles.com/event/byte-sized-tech-your-questions-answered/2029-04-19/
LOCATION:Online
CATEGORIES:London
END:VEVENT
BEGIN:VEVENT
DTSTART;TZID=America/Toronto:20290423T110000
DTEND;TZID=America/Toronto:20290423T120000
DTSTAMP:20260422T130927
CREATED:20260406T131817Z
LAST-MODIFIED:20260406T150926Z
UID:10006233-1871636400-1871640000@www.kwlifestyles.com
SUMMARY:Byte-Sized Tech – Your Questions Answered!
DESCRIPTION:Drop in for quick\, practical help with real estate technology! \nWhether it’s Command\, Realm\, DocuSign\, or anything else\, bring your questions for David and get answers on the spot. \nJoin anytime during the session\, stay as long as you need\, and leave with solutions.
URL:https://www.kwlifestyles.com/event/byte-sized-tech-your-questions-answered/2029-04-23/
LOCATION:Online
CATEGORIES:London
END:VEVENT
BEGIN:VEVENT
DTSTART;TZID=America/Toronto:20290424T110000
DTEND;TZID=America/Toronto:20290424T120000
DTSTAMP:20260422T130927
CREATED:20260406T131817Z
LAST-MODIFIED:20260406T150926Z
UID:10006234-1871722800-1871726400@www.kwlifestyles.com
SUMMARY:Byte-Sized Tech – Your Questions Answered!
DESCRIPTION:Drop in for quick\, practical help with real estate technology! \nWhether it’s Command\, Realm\, DocuSign\, or anything else\, bring your questions for David and get answers on the spot. \nJoin anytime during the session\, stay as long as you need\, and leave with solutions.
URL:https://www.kwlifestyles.com/event/byte-sized-tech-your-questions-answered/2029-04-24/
LOCATION:Online
CATEGORIES:London
END:VEVENT
BEGIN:VEVENT
DTSTART;TZID=America/Toronto:20290425T110000
DTEND;TZID=America/Toronto:20290425T120000
DTSTAMP:20260422T130927
CREATED:20260406T131817Z
LAST-MODIFIED:20260406T150926Z
UID:10006235-1871809200-1871812800@www.kwlifestyles.com
SUMMARY:Byte-Sized Tech – Your Questions Answered!
DESCRIPTION:Drop in for quick\, practical help with real estate technology! \nWhether it’s Command\, Realm\, DocuSign\, or anything else\, bring your questions for David and get answers on the spot. \nJoin anytime during the session\, stay as long as you need\, and leave with solutions.
URL:https://www.kwlifestyles.com/event/byte-sized-tech-your-questions-answered/2029-04-25/
LOCATION:Online
CATEGORIES:London
END:VEVENT
BEGIN:VEVENT
DTSTART;TZID=America/Toronto:20290426T110000
DTEND;TZID=America/Toronto:20290426T120000
DTSTAMP:20260422T130927
CREATED:20260406T131817Z
LAST-MODIFIED:20260406T150926Z
UID:10006236-1871895600-1871899200@www.kwlifestyles.com
SUMMARY:Byte-Sized Tech – Your Questions Answered!
DESCRIPTION:Drop in for quick\, practical help with real estate technology! \nWhether it’s Command\, Realm\, DocuSign\, or anything else\, bring your questions for David and get answers on the spot. \nJoin anytime during the session\, stay as long as you need\, and leave with solutions.
URL:https://www.kwlifestyles.com/event/byte-sized-tech-your-questions-answered/2029-04-26/
LOCATION:Online
CATEGORIES:London
END:VEVENT
BEGIN:VEVENT
DTSTART;TZID=America/Toronto:20290430T110000
DTEND;TZID=America/Toronto:20290430T120000
DTSTAMP:20260422T130927
CREATED:20260406T131817Z
LAST-MODIFIED:20260406T150926Z
UID:10006237-1872241200-1872244800@www.kwlifestyles.com
SUMMARY:Byte-Sized Tech – Your Questions Answered!
DESCRIPTION:Drop in for quick\, practical help with real estate technology! \nWhether it’s Command\, Realm\, DocuSign\, or anything else\, bring your questions for David and get answers on the spot. \nJoin anytime during the session\, stay as long as you need\, and leave with solutions.
URL:https://www.kwlifestyles.com/event/byte-sized-tech-your-questions-answered/2029-04-30/
LOCATION:Online
CATEGORIES:London
END:VEVENT
END:VCALENDAR