BEGIN:VCALENDAR
VERSION:2.0
PRODID:-//Keller Williams Lifestyles Realty, Brokerage - ECPv6.15.20//NONSGML v1.0//EN
CALSCALE:GREGORIAN
METHOD:PUBLISH
X-WR-CALNAME:Keller Williams Lifestyles Realty, Brokerage
X-ORIGINAL-URL:https://www.kwlifestyles.com
X-WR-CALDESC:Events for Keller Williams Lifestyles Realty, Brokerage
REFRESH-INTERVAL;VALUE=DURATION:PT1H
X-Robots-Tag:noindex
X-PUBLISHED-TTL:PT1H
BEGIN:VTIMEZONE
TZID:America/Toronto
BEGIN:DAYLIGHT
TZOFFSETFROM:-0500
TZOFFSETTO:-0400
TZNAME:EDT
DTSTART:20270314T070000
END:DAYLIGHT
BEGIN:STANDARD
TZOFFSETFROM:-0400
TZOFFSETTO:-0500
TZNAME:EST
DTSTART:20271107T060000
END:STANDARD
BEGIN:DAYLIGHT
TZOFFSETFROM:-0500
TZOFFSETTO:-0400
TZNAME:EDT
DTSTART:20280312T070000
END:DAYLIGHT
BEGIN:STANDARD
TZOFFSETFROM:-0400
TZOFFSETTO:-0500
TZNAME:EST
DTSTART:20281105T060000
END:STANDARD
BEGIN:DAYLIGHT
TZOFFSETFROM:-0500
TZOFFSETTO:-0400
TZNAME:EDT
DTSTART:20290311T070000
END:DAYLIGHT
BEGIN:STANDARD
TZOFFSETFROM:-0400
TZOFFSETTO:-0500
TZNAME:EST
DTSTART:20291104T060000
END:STANDARD
BEGIN:DAYLIGHT
TZOFFSETFROM:-0500
TZOFFSETTO:-0400
TZNAME:EDT
DTSTART:20300310T070000
END:DAYLIGHT
BEGIN:STANDARD
TZOFFSETFROM:-0400
TZOFFSETTO:-0500
TZNAME:EST
DTSTART:20301103T060000
END:STANDARD
END:VTIMEZONE
BEGIN:VEVENT
DTSTART;TZID=America/Toronto:20281213T110000
DTEND;TZID=America/Toronto:20281213T120000
DTSTAMP:20260422T062256
CREATED:20260406T131817Z
LAST-MODIFIED:20260406T150926Z
UID:10006159-1860318000-1860321600@www.kwlifestyles.com
SUMMARY:Byte-Sized Tech – Your Questions Answered!
DESCRIPTION:Drop in for quick\, practical help with real estate technology! \nWhether it’s Command\, Realm\, DocuSign\, or anything else\, bring your questions for David and get answers on the spot. \nJoin anytime during the session\, stay as long as you need\, and leave with solutions.
URL:https://www.kwlifestyles.com/event/byte-sized-tech-your-questions-answered/2028-12-13/
LOCATION:Online
CATEGORIES:London
END:VEVENT
BEGIN:VEVENT
DTSTART;TZID=America/Toronto:20281214T110000
DTEND;TZID=America/Toronto:20281214T120000
DTSTAMP:20260422T062256
CREATED:20260406T131817Z
LAST-MODIFIED:20260406T150926Z
UID:10006160-1860404400-1860408000@www.kwlifestyles.com
SUMMARY:Byte-Sized Tech – Your Questions Answered!
DESCRIPTION:Drop in for quick\, practical help with real estate technology! \nWhether it’s Command\, Realm\, DocuSign\, or anything else\, bring your questions for David and get answers on the spot. \nJoin anytime during the session\, stay as long as you need\, and leave with solutions.
URL:https://www.kwlifestyles.com/event/byte-sized-tech-your-questions-answered/2028-12-14/
LOCATION:Online
CATEGORIES:London
END:VEVENT
BEGIN:VEVENT
DTSTART;TZID=America/Toronto:20281218T110000
DTEND;TZID=America/Toronto:20281218T120000
DTSTAMP:20260422T062256
CREATED:20260406T131817Z
LAST-MODIFIED:20260406T150926Z
UID:10006161-1860750000-1860753600@www.kwlifestyles.com
SUMMARY:Byte-Sized Tech – Your Questions Answered!
DESCRIPTION:Drop in for quick\, practical help with real estate technology! \nWhether it’s Command\, Realm\, DocuSign\, or anything else\, bring your questions for David and get answers on the spot. \nJoin anytime during the session\, stay as long as you need\, and leave with solutions.
URL:https://www.kwlifestyles.com/event/byte-sized-tech-your-questions-answered/2028-12-18/
LOCATION:Online
CATEGORIES:London
END:VEVENT
BEGIN:VEVENT
DTSTART;TZID=America/Toronto:20281219T110000
DTEND;TZID=America/Toronto:20281219T120000
DTSTAMP:20260422T062256
CREATED:20260406T131817Z
LAST-MODIFIED:20260406T150926Z
UID:10006162-1860836400-1860840000@www.kwlifestyles.com
SUMMARY:Byte-Sized Tech – Your Questions Answered!
DESCRIPTION:Drop in for quick\, practical help with real estate technology! \nWhether it’s Command\, Realm\, DocuSign\, or anything else\, bring your questions for David and get answers on the spot. \nJoin anytime during the session\, stay as long as you need\, and leave with solutions.
URL:https://www.kwlifestyles.com/event/byte-sized-tech-your-questions-answered/2028-12-19/
LOCATION:Online
CATEGORIES:London
END:VEVENT
BEGIN:VEVENT
DTSTART;TZID=America/Toronto:20281220T110000
DTEND;TZID=America/Toronto:20281220T120000
DTSTAMP:20260422T062256
CREATED:20260406T131817Z
LAST-MODIFIED:20260406T150926Z
UID:10006163-1860922800-1860926400@www.kwlifestyles.com
SUMMARY:Byte-Sized Tech – Your Questions Answered!
DESCRIPTION:Drop in for quick\, practical help with real estate technology! \nWhether it’s Command\, Realm\, DocuSign\, or anything else\, bring your questions for David and get answers on the spot. \nJoin anytime during the session\, stay as long as you need\, and leave with solutions.
URL:https://www.kwlifestyles.com/event/byte-sized-tech-your-questions-answered/2028-12-20/
LOCATION:Online
CATEGORIES:London
END:VEVENT
BEGIN:VEVENT
DTSTART;TZID=America/Toronto:20281221T110000
DTEND;TZID=America/Toronto:20281221T120000
DTSTAMP:20260422T062256
CREATED:20260406T131817Z
LAST-MODIFIED:20260406T150926Z
UID:10006164-1861009200-1861012800@www.kwlifestyles.com
SUMMARY:Byte-Sized Tech – Your Questions Answered!
DESCRIPTION:Drop in for quick\, practical help with real estate technology! \nWhether it’s Command\, Realm\, DocuSign\, or anything else\, bring your questions for David and get answers on the spot. \nJoin anytime during the session\, stay as long as you need\, and leave with solutions.
URL:https://www.kwlifestyles.com/event/byte-sized-tech-your-questions-answered/2028-12-21/
LOCATION:Online
CATEGORIES:London
END:VEVENT
BEGIN:VEVENT
DTSTART;TZID=America/Toronto:20281225T110000
DTEND;TZID=America/Toronto:20281225T120000
DTSTAMP:20260422T062256
CREATED:20260406T131817Z
LAST-MODIFIED:20260406T150926Z
UID:10006165-1861354800-1861358400@www.kwlifestyles.com
SUMMARY:Byte-Sized Tech – Your Questions Answered!
DESCRIPTION:Drop in for quick\, practical help with real estate technology! \nWhether it’s Command\, Realm\, DocuSign\, or anything else\, bring your questions for David and get answers on the spot. \nJoin anytime during the session\, stay as long as you need\, and leave with solutions.
URL:https://www.kwlifestyles.com/event/byte-sized-tech-your-questions-answered/2028-12-25/
LOCATION:Online
CATEGORIES:London
END:VEVENT
BEGIN:VEVENT
DTSTART;TZID=America/Toronto:20281226T110000
DTEND;TZID=America/Toronto:20281226T120000
DTSTAMP:20260422T062256
CREATED:20260406T131817Z
LAST-MODIFIED:20260406T150926Z
UID:10006166-1861441200-1861444800@www.kwlifestyles.com
SUMMARY:Byte-Sized Tech – Your Questions Answered!
DESCRIPTION:Drop in for quick\, practical help with real estate technology! \nWhether it’s Command\, Realm\, DocuSign\, or anything else\, bring your questions for David and get answers on the spot. \nJoin anytime during the session\, stay as long as you need\, and leave with solutions.
URL:https://www.kwlifestyles.com/event/byte-sized-tech-your-questions-answered/2028-12-26/
LOCATION:Online
CATEGORIES:London
END:VEVENT
BEGIN:VEVENT
DTSTART;TZID=America/Toronto:20281227T110000
DTEND;TZID=America/Toronto:20281227T120000
DTSTAMP:20260422T062256
CREATED:20260406T131817Z
LAST-MODIFIED:20260406T150926Z
UID:10006167-1861527600-1861531200@www.kwlifestyles.com
SUMMARY:Byte-Sized Tech – Your Questions Answered!
DESCRIPTION:Drop in for quick\, practical help with real estate technology! \nWhether it’s Command\, Realm\, DocuSign\, or anything else\, bring your questions for David and get answers on the spot. \nJoin anytime during the session\, stay as long as you need\, and leave with solutions.
URL:https://www.kwlifestyles.com/event/byte-sized-tech-your-questions-answered/2028-12-27/
LOCATION:Online
CATEGORIES:London
END:VEVENT
BEGIN:VEVENT
DTSTART;TZID=America/Toronto:20281228T110000
DTEND;TZID=America/Toronto:20281228T120000
DTSTAMP:20260422T062256
CREATED:20260406T131817Z
LAST-MODIFIED:20260406T150926Z
UID:10006168-1861614000-1861617600@www.kwlifestyles.com
SUMMARY:Byte-Sized Tech – Your Questions Answered!
DESCRIPTION:Drop in for quick\, practical help with real estate technology! \nWhether it’s Command\, Realm\, DocuSign\, or anything else\, bring your questions for David and get answers on the spot. \nJoin anytime during the session\, stay as long as you need\, and leave with solutions.
URL:https://www.kwlifestyles.com/event/byte-sized-tech-your-questions-answered/2028-12-28/
LOCATION:Online
CATEGORIES:London
END:VEVENT
BEGIN:VEVENT
DTSTART;TZID=America/Toronto:20290101T110000
DTEND;TZID=America/Toronto:20290101T120000
DTSTAMP:20260422T062256
CREATED:20260406T131817Z
LAST-MODIFIED:20260406T150926Z
UID:10006169-1861959600-1861963200@www.kwlifestyles.com
SUMMARY:Byte-Sized Tech – Your Questions Answered!
DESCRIPTION:Drop in for quick\, practical help with real estate technology! \nWhether it’s Command\, Realm\, DocuSign\, or anything else\, bring your questions for David and get answers on the spot. \nJoin anytime during the session\, stay as long as you need\, and leave with solutions.
URL:https://www.kwlifestyles.com/event/byte-sized-tech-your-questions-answered/2029-01-01/
LOCATION:Online
CATEGORIES:London
END:VEVENT
BEGIN:VEVENT
DTSTART;TZID=America/Toronto:20290102T110000
DTEND;TZID=America/Toronto:20290102T120000
DTSTAMP:20260422T062256
CREATED:20260406T131817Z
LAST-MODIFIED:20260406T150926Z
UID:10006170-1862046000-1862049600@www.kwlifestyles.com
SUMMARY:Byte-Sized Tech – Your Questions Answered!
DESCRIPTION:Drop in for quick\, practical help with real estate technology! \nWhether it’s Command\, Realm\, DocuSign\, or anything else\, bring your questions for David and get answers on the spot. \nJoin anytime during the session\, stay as long as you need\, and leave with solutions.
URL:https://www.kwlifestyles.com/event/byte-sized-tech-your-questions-answered/2029-01-02/
LOCATION:Online
CATEGORIES:London
END:VEVENT
BEGIN:VEVENT
DTSTART;TZID=America/Toronto:20290103T110000
DTEND;TZID=America/Toronto:20290103T120000
DTSTAMP:20260422T062256
CREATED:20260406T131817Z
LAST-MODIFIED:20260406T150926Z
UID:10006171-1862132400-1862136000@www.kwlifestyles.com
SUMMARY:Byte-Sized Tech – Your Questions Answered!
DESCRIPTION:Drop in for quick\, practical help with real estate technology! \nWhether it’s Command\, Realm\, DocuSign\, or anything else\, bring your questions for David and get answers on the spot. \nJoin anytime during the session\, stay as long as you need\, and leave with solutions.
URL:https://www.kwlifestyles.com/event/byte-sized-tech-your-questions-answered/2029-01-03/
LOCATION:Online
CATEGORIES:London
END:VEVENT
BEGIN:VEVENT
DTSTART;TZID=America/Toronto:20290104T110000
DTEND;TZID=America/Toronto:20290104T120000
DTSTAMP:20260422T062256
CREATED:20260406T131817Z
LAST-MODIFIED:20260406T150926Z
UID:10006172-1862218800-1862222400@www.kwlifestyles.com
SUMMARY:Byte-Sized Tech – Your Questions Answered!
DESCRIPTION:Drop in for quick\, practical help with real estate technology! \nWhether it’s Command\, Realm\, DocuSign\, or anything else\, bring your questions for David and get answers on the spot. \nJoin anytime during the session\, stay as long as you need\, and leave with solutions.
URL:https://www.kwlifestyles.com/event/byte-sized-tech-your-questions-answered/2029-01-04/
LOCATION:Online
CATEGORIES:London
END:VEVENT
BEGIN:VEVENT
DTSTART;TZID=America/Toronto:20290108T110000
DTEND;TZID=America/Toronto:20290108T120000
DTSTAMP:20260422T062256
CREATED:20260406T131817Z
LAST-MODIFIED:20260406T150926Z
UID:10006173-1862564400-1862568000@www.kwlifestyles.com
SUMMARY:Byte-Sized Tech – Your Questions Answered!
DESCRIPTION:Drop in for quick\, practical help with real estate technology! \nWhether it’s Command\, Realm\, DocuSign\, or anything else\, bring your questions for David and get answers on the spot. \nJoin anytime during the session\, stay as long as you need\, and leave with solutions.
URL:https://www.kwlifestyles.com/event/byte-sized-tech-your-questions-answered/2029-01-08/
LOCATION:Online
CATEGORIES:London
END:VEVENT
BEGIN:VEVENT
DTSTART;TZID=America/Toronto:20290109T110000
DTEND;TZID=America/Toronto:20290109T120000
DTSTAMP:20260422T062256
CREATED:20260406T131817Z
LAST-MODIFIED:20260406T150926Z
UID:10006174-1862650800-1862654400@www.kwlifestyles.com
SUMMARY:Byte-Sized Tech – Your Questions Answered!
DESCRIPTION:Drop in for quick\, practical help with real estate technology! \nWhether it’s Command\, Realm\, DocuSign\, or anything else\, bring your questions for David and get answers on the spot. \nJoin anytime during the session\, stay as long as you need\, and leave with solutions.
URL:https://www.kwlifestyles.com/event/byte-sized-tech-your-questions-answered/2029-01-09/
LOCATION:Online
CATEGORIES:London
END:VEVENT
BEGIN:VEVENT
DTSTART;TZID=America/Toronto:20290110T110000
DTEND;TZID=America/Toronto:20290110T120000
DTSTAMP:20260422T062256
CREATED:20260406T131817Z
LAST-MODIFIED:20260406T150926Z
UID:10006175-1862737200-1862740800@www.kwlifestyles.com
SUMMARY:Byte-Sized Tech – Your Questions Answered!
DESCRIPTION:Drop in for quick\, practical help with real estate technology! \nWhether it’s Command\, Realm\, DocuSign\, or anything else\, bring your questions for David and get answers on the spot. \nJoin anytime during the session\, stay as long as you need\, and leave with solutions.
URL:https://www.kwlifestyles.com/event/byte-sized-tech-your-questions-answered/2029-01-10/
LOCATION:Online
CATEGORIES:London
END:VEVENT
BEGIN:VEVENT
DTSTART;TZID=America/Toronto:20290111T110000
DTEND;TZID=America/Toronto:20290111T120000
DTSTAMP:20260422T062256
CREATED:20260406T131817Z
LAST-MODIFIED:20260406T150926Z
UID:10006176-1862823600-1862827200@www.kwlifestyles.com
SUMMARY:Byte-Sized Tech – Your Questions Answered!
DESCRIPTION:Drop in for quick\, practical help with real estate technology! \nWhether it’s Command\, Realm\, DocuSign\, or anything else\, bring your questions for David and get answers on the spot. \nJoin anytime during the session\, stay as long as you need\, and leave with solutions.
URL:https://www.kwlifestyles.com/event/byte-sized-tech-your-questions-answered/2029-01-11/
LOCATION:Online
CATEGORIES:London
END:VEVENT
BEGIN:VEVENT
DTSTART;TZID=America/Toronto:20290115T110000
DTEND;TZID=America/Toronto:20290115T120000
DTSTAMP:20260422T062256
CREATED:20260406T131817Z
LAST-MODIFIED:20260406T150926Z
UID:10006177-1863169200-1863172800@www.kwlifestyles.com
SUMMARY:Byte-Sized Tech – Your Questions Answered!
DESCRIPTION:Drop in for quick\, practical help with real estate technology! \nWhether it’s Command\, Realm\, DocuSign\, or anything else\, bring your questions for David and get answers on the spot. \nJoin anytime during the session\, stay as long as you need\, and leave with solutions.
URL:https://www.kwlifestyles.com/event/byte-sized-tech-your-questions-answered/2029-01-15/
LOCATION:Online
CATEGORIES:London
END:VEVENT
BEGIN:VEVENT
DTSTART;TZID=America/Toronto:20290116T110000
DTEND;TZID=America/Toronto:20290116T120000
DTSTAMP:20260422T062256
CREATED:20260406T131817Z
LAST-MODIFIED:20260406T150926Z
UID:10006178-1863255600-1863259200@www.kwlifestyles.com
SUMMARY:Byte-Sized Tech – Your Questions Answered!
DESCRIPTION:Drop in for quick\, practical help with real estate technology! \nWhether it’s Command\, Realm\, DocuSign\, or anything else\, bring your questions for David and get answers on the spot. \nJoin anytime during the session\, stay as long as you need\, and leave with solutions.
URL:https://www.kwlifestyles.com/event/byte-sized-tech-your-questions-answered/2029-01-16/
LOCATION:Online
CATEGORIES:London
END:VEVENT
BEGIN:VEVENT
DTSTART;TZID=America/Toronto:20290117T110000
DTEND;TZID=America/Toronto:20290117T120000
DTSTAMP:20260422T062256
CREATED:20260406T131817Z
LAST-MODIFIED:20260406T150926Z
UID:10006179-1863342000-1863345600@www.kwlifestyles.com
SUMMARY:Byte-Sized Tech – Your Questions Answered!
DESCRIPTION:Drop in for quick\, practical help with real estate technology! \nWhether it’s Command\, Realm\, DocuSign\, or anything else\, bring your questions for David and get answers on the spot. \nJoin anytime during the session\, stay as long as you need\, and leave with solutions.
URL:https://www.kwlifestyles.com/event/byte-sized-tech-your-questions-answered/2029-01-17/
LOCATION:Online
CATEGORIES:London
END:VEVENT
BEGIN:VEVENT
DTSTART;TZID=America/Toronto:20290118T110000
DTEND;TZID=America/Toronto:20290118T120000
DTSTAMP:20260422T062256
CREATED:20260406T131817Z
LAST-MODIFIED:20260406T150926Z
UID:10006180-1863428400-1863432000@www.kwlifestyles.com
SUMMARY:Byte-Sized Tech – Your Questions Answered!
DESCRIPTION:Drop in for quick\, practical help with real estate technology! \nWhether it’s Command\, Realm\, DocuSign\, or anything else\, bring your questions for David and get answers on the spot. \nJoin anytime during the session\, stay as long as you need\, and leave with solutions.
URL:https://www.kwlifestyles.com/event/byte-sized-tech-your-questions-answered/2029-01-18/
LOCATION:Online
CATEGORIES:London
END:VEVENT
BEGIN:VEVENT
DTSTART;TZID=America/Toronto:20290122T110000
DTEND;TZID=America/Toronto:20290122T120000
DTSTAMP:20260422T062256
CREATED:20260406T131817Z
LAST-MODIFIED:20260406T150926Z
UID:10006181-1863774000-1863777600@www.kwlifestyles.com
SUMMARY:Byte-Sized Tech – Your Questions Answered!
DESCRIPTION:Drop in for quick\, practical help with real estate technology! \nWhether it’s Command\, Realm\, DocuSign\, or anything else\, bring your questions for David and get answers on the spot. \nJoin anytime during the session\, stay as long as you need\, and leave with solutions.
URL:https://www.kwlifestyles.com/event/byte-sized-tech-your-questions-answered/2029-01-22/
LOCATION:Online
CATEGORIES:London
END:VEVENT
BEGIN:VEVENT
DTSTART;TZID=America/Toronto:20290123T110000
DTEND;TZID=America/Toronto:20290123T120000
DTSTAMP:20260422T062256
CREATED:20260406T131817Z
LAST-MODIFIED:20260406T150926Z
UID:10006182-1863860400-1863864000@www.kwlifestyles.com
SUMMARY:Byte-Sized Tech – Your Questions Answered!
DESCRIPTION:Drop in for quick\, practical help with real estate technology! \nWhether it’s Command\, Realm\, DocuSign\, or anything else\, bring your questions for David and get answers on the spot. \nJoin anytime during the session\, stay as long as you need\, and leave with solutions.
URL:https://www.kwlifestyles.com/event/byte-sized-tech-your-questions-answered/2029-01-23/
LOCATION:Online
CATEGORIES:London
END:VEVENT
BEGIN:VEVENT
DTSTART;TZID=America/Toronto:20290124T110000
DTEND;TZID=America/Toronto:20290124T120000
DTSTAMP:20260422T062256
CREATED:20260406T131817Z
LAST-MODIFIED:20260406T150926Z
UID:10006183-1863946800-1863950400@www.kwlifestyles.com
SUMMARY:Byte-Sized Tech – Your Questions Answered!
DESCRIPTION:Drop in for quick\, practical help with real estate technology! \nWhether it’s Command\, Realm\, DocuSign\, or anything else\, bring your questions for David and get answers on the spot. \nJoin anytime during the session\, stay as long as you need\, and leave with solutions.
URL:https://www.kwlifestyles.com/event/byte-sized-tech-your-questions-answered/2029-01-24/
LOCATION:Online
CATEGORIES:London
END:VEVENT
BEGIN:VEVENT
DTSTART;TZID=America/Toronto:20290125T110000
DTEND;TZID=America/Toronto:20290125T120000
DTSTAMP:20260422T062256
CREATED:20260406T131817Z
LAST-MODIFIED:20260406T150926Z
UID:10006184-1864033200-1864036800@www.kwlifestyles.com
SUMMARY:Byte-Sized Tech – Your Questions Answered!
DESCRIPTION:Drop in for quick\, practical help with real estate technology! \nWhether it’s Command\, Realm\, DocuSign\, or anything else\, bring your questions for David and get answers on the spot. \nJoin anytime during the session\, stay as long as you need\, and leave with solutions.
URL:https://www.kwlifestyles.com/event/byte-sized-tech-your-questions-answered/2029-01-25/
LOCATION:Online
CATEGORIES:London
END:VEVENT
BEGIN:VEVENT
DTSTART;TZID=America/Toronto:20290129T110000
DTEND;TZID=America/Toronto:20290129T120000
DTSTAMP:20260422T062256
CREATED:20260406T131817Z
LAST-MODIFIED:20260406T150926Z
UID:10006185-1864378800-1864382400@www.kwlifestyles.com
SUMMARY:Byte-Sized Tech – Your Questions Answered!
DESCRIPTION:Drop in for quick\, practical help with real estate technology! \nWhether it’s Command\, Realm\, DocuSign\, or anything else\, bring your questions for David and get answers on the spot. \nJoin anytime during the session\, stay as long as you need\, and leave with solutions.
URL:https://www.kwlifestyles.com/event/byte-sized-tech-your-questions-answered/2029-01-29/
LOCATION:Online
CATEGORIES:London
END:VEVENT
BEGIN:VEVENT
DTSTART;TZID=America/Toronto:20290130T110000
DTEND;TZID=America/Toronto:20290130T120000
DTSTAMP:20260422T062256
CREATED:20260406T131817Z
LAST-MODIFIED:20260406T150926Z
UID:10006186-1864465200-1864468800@www.kwlifestyles.com
SUMMARY:Byte-Sized Tech – Your Questions Answered!
DESCRIPTION:Drop in for quick\, practical help with real estate technology! \nWhether it’s Command\, Realm\, DocuSign\, or anything else\, bring your questions for David and get answers on the spot. \nJoin anytime during the session\, stay as long as you need\, and leave with solutions.
URL:https://www.kwlifestyles.com/event/byte-sized-tech-your-questions-answered/2029-01-30/
LOCATION:Online
CATEGORIES:London
END:VEVENT
BEGIN:VEVENT
DTSTART;TZID=America/Toronto:20290131T110000
DTEND;TZID=America/Toronto:20290131T120000
DTSTAMP:20260422T062256
CREATED:20260406T131817Z
LAST-MODIFIED:20260406T150926Z
UID:10006187-1864551600-1864555200@www.kwlifestyles.com
SUMMARY:Byte-Sized Tech – Your Questions Answered!
DESCRIPTION:Drop in for quick\, practical help with real estate technology! \nWhether it’s Command\, Realm\, DocuSign\, or anything else\, bring your questions for David and get answers on the spot. \nJoin anytime during the session\, stay as long as you need\, and leave with solutions.
URL:https://www.kwlifestyles.com/event/byte-sized-tech-your-questions-answered/2029-01-31/
LOCATION:Online
CATEGORIES:London
END:VEVENT
BEGIN:VEVENT
DTSTART;TZID=America/Toronto:20290201T110000
DTEND;TZID=America/Toronto:20290201T120000
DTSTAMP:20260422T062256
CREATED:20260406T131817Z
LAST-MODIFIED:20260406T150926Z
UID:10006188-1864638000-1864641600@www.kwlifestyles.com
SUMMARY:Byte-Sized Tech – Your Questions Answered!
DESCRIPTION:Drop in for quick\, practical help with real estate technology! \nWhether it’s Command\, Realm\, DocuSign\, or anything else\, bring your questions for David and get answers on the spot. \nJoin anytime during the session\, stay as long as you need\, and leave with solutions.
URL:https://www.kwlifestyles.com/event/byte-sized-tech-your-questions-answered/2029-02-01/
LOCATION:Online
CATEGORIES:London
END:VEVENT
END:VCALENDAR