BEGIN:VCALENDAR
VERSION:2.0
PRODID:-//Keller Williams Lifestyles Realty, Brokerage - ECPv6.15.20//NONSGML v1.0//EN
CALSCALE:GREGORIAN
METHOD:PUBLISH
X-WR-CALNAME:Keller Williams Lifestyles Realty, Brokerage
X-ORIGINAL-URL:https://www.kwlifestyles.com
X-WR-CALDESC:Events for Keller Williams Lifestyles Realty, Brokerage
REFRESH-INTERVAL;VALUE=DURATION:PT1H
X-Robots-Tag:noindex
X-PUBLISHED-TTL:PT1H
BEGIN:VTIMEZONE
TZID:America/Toronto
BEGIN:DAYLIGHT
TZOFFSETFROM:-0500
TZOFFSETTO:-0400
TZNAME:EDT
DTSTART:20260308T070000
END:DAYLIGHT
BEGIN:STANDARD
TZOFFSETFROM:-0400
TZOFFSETTO:-0500
TZNAME:EST
DTSTART:20261101T060000
END:STANDARD
BEGIN:DAYLIGHT
TZOFFSETFROM:-0500
TZOFFSETTO:-0400
TZNAME:EDT
DTSTART:20270314T070000
END:DAYLIGHT
BEGIN:STANDARD
TZOFFSETFROM:-0400
TZOFFSETTO:-0500
TZNAME:EST
DTSTART:20271107T060000
END:STANDARD
BEGIN:DAYLIGHT
TZOFFSETFROM:-0500
TZOFFSETTO:-0400
TZNAME:EDT
DTSTART:20280312T070000
END:DAYLIGHT
BEGIN:STANDARD
TZOFFSETFROM:-0400
TZOFFSETTO:-0500
TZNAME:EST
DTSTART:20281105T060000
END:STANDARD
END:VTIMEZONE
BEGIN:VEVENT
DTSTART;TZID=America/Toronto:20270906T110000
DTEND;TZID=America/Toronto:20270906T120000
DTSTAMP:20260419T212558
CREATED:20260406T131817Z
LAST-MODIFIED:20260406T150926Z
UID:10005893-1820228400-1820232000@www.kwlifestyles.com
SUMMARY:Byte-Sized Tech – Your Questions Answered!
DESCRIPTION:Drop in for quick\, practical help with real estate technology! \nWhether it’s Command\, Realm\, DocuSign\, or anything else\, bring your questions for David and get answers on the spot. \nJoin anytime during the session\, stay as long as you need\, and leave with solutions.
URL:https://www.kwlifestyles.com/event/byte-sized-tech-your-questions-answered/2027-09-06/
LOCATION:Online
CATEGORIES:London
END:VEVENT
BEGIN:VEVENT
DTSTART;TZID=America/Toronto:20270907T110000
DTEND;TZID=America/Toronto:20270907T120000
DTSTAMP:20260419T212558
CREATED:20260406T131817Z
LAST-MODIFIED:20260406T150926Z
UID:10005894-1820314800-1820318400@www.kwlifestyles.com
SUMMARY:Byte-Sized Tech – Your Questions Answered!
DESCRIPTION:Drop in for quick\, practical help with real estate technology! \nWhether it’s Command\, Realm\, DocuSign\, or anything else\, bring your questions for David and get answers on the spot. \nJoin anytime during the session\, stay as long as you need\, and leave with solutions.
URL:https://www.kwlifestyles.com/event/byte-sized-tech-your-questions-answered/2027-09-07/
LOCATION:Online
CATEGORIES:London
END:VEVENT
BEGIN:VEVENT
DTSTART;TZID=America/Toronto:20270908T110000
DTEND;TZID=America/Toronto:20270908T120000
DTSTAMP:20260419T212558
CREATED:20260406T131817Z
LAST-MODIFIED:20260406T150926Z
UID:10005895-1820401200-1820404800@www.kwlifestyles.com
SUMMARY:Byte-Sized Tech – Your Questions Answered!
DESCRIPTION:Drop in for quick\, practical help with real estate technology! \nWhether it’s Command\, Realm\, DocuSign\, or anything else\, bring your questions for David and get answers on the spot. \nJoin anytime during the session\, stay as long as you need\, and leave with solutions.
URL:https://www.kwlifestyles.com/event/byte-sized-tech-your-questions-answered/2027-09-08/
LOCATION:Online
CATEGORIES:London
END:VEVENT
BEGIN:VEVENT
DTSTART;TZID=America/Toronto:20270909T110000
DTEND;TZID=America/Toronto:20270909T120000
DTSTAMP:20260419T212558
CREATED:20260406T131817Z
LAST-MODIFIED:20260406T150926Z
UID:10005896-1820487600-1820491200@www.kwlifestyles.com
SUMMARY:Byte-Sized Tech – Your Questions Answered!
DESCRIPTION:Drop in for quick\, practical help with real estate technology! \nWhether it’s Command\, Realm\, DocuSign\, or anything else\, bring your questions for David and get answers on the spot. \nJoin anytime during the session\, stay as long as you need\, and leave with solutions.
URL:https://www.kwlifestyles.com/event/byte-sized-tech-your-questions-answered/2027-09-09/
LOCATION:Online
CATEGORIES:London
END:VEVENT
BEGIN:VEVENT
DTSTART;TZID=America/Toronto:20270913T110000
DTEND;TZID=America/Toronto:20270913T120000
DTSTAMP:20260419T212558
CREATED:20260406T131817Z
LAST-MODIFIED:20260406T150926Z
UID:10005897-1820833200-1820836800@www.kwlifestyles.com
SUMMARY:Byte-Sized Tech – Your Questions Answered!
DESCRIPTION:Drop in for quick\, practical help with real estate technology! \nWhether it’s Command\, Realm\, DocuSign\, or anything else\, bring your questions for David and get answers on the spot. \nJoin anytime during the session\, stay as long as you need\, and leave with solutions.
URL:https://www.kwlifestyles.com/event/byte-sized-tech-your-questions-answered/2027-09-13/
LOCATION:Online
CATEGORIES:London
END:VEVENT
BEGIN:VEVENT
DTSTART;TZID=America/Toronto:20270914T110000
DTEND;TZID=America/Toronto:20270914T120000
DTSTAMP:20260419T212558
CREATED:20260406T131817Z
LAST-MODIFIED:20260406T150926Z
UID:10005898-1820919600-1820923200@www.kwlifestyles.com
SUMMARY:Byte-Sized Tech – Your Questions Answered!
DESCRIPTION:Drop in for quick\, practical help with real estate technology! \nWhether it’s Command\, Realm\, DocuSign\, or anything else\, bring your questions for David and get answers on the spot. \nJoin anytime during the session\, stay as long as you need\, and leave with solutions.
URL:https://www.kwlifestyles.com/event/byte-sized-tech-your-questions-answered/2027-09-14/
LOCATION:Online
CATEGORIES:London
END:VEVENT
BEGIN:VEVENT
DTSTART;TZID=America/Toronto:20270915T110000
DTEND;TZID=America/Toronto:20270915T120000
DTSTAMP:20260419T212558
CREATED:20260406T131817Z
LAST-MODIFIED:20260406T150926Z
UID:10005899-1821006000-1821009600@www.kwlifestyles.com
SUMMARY:Byte-Sized Tech – Your Questions Answered!
DESCRIPTION:Drop in for quick\, practical help with real estate technology! \nWhether it’s Command\, Realm\, DocuSign\, or anything else\, bring your questions for David and get answers on the spot. \nJoin anytime during the session\, stay as long as you need\, and leave with solutions.
URL:https://www.kwlifestyles.com/event/byte-sized-tech-your-questions-answered/2027-09-15/
LOCATION:Online
CATEGORIES:London
END:VEVENT
BEGIN:VEVENT
DTSTART;TZID=America/Toronto:20270916T110000
DTEND;TZID=America/Toronto:20270916T120000
DTSTAMP:20260419T212558
CREATED:20260406T131817Z
LAST-MODIFIED:20260406T150926Z
UID:10005900-1821092400-1821096000@www.kwlifestyles.com
SUMMARY:Byte-Sized Tech – Your Questions Answered!
DESCRIPTION:Drop in for quick\, practical help with real estate technology! \nWhether it’s Command\, Realm\, DocuSign\, or anything else\, bring your questions for David and get answers on the spot. \nJoin anytime during the session\, stay as long as you need\, and leave with solutions.
URL:https://www.kwlifestyles.com/event/byte-sized-tech-your-questions-answered/2027-09-16/
LOCATION:Online
CATEGORIES:London
END:VEVENT
BEGIN:VEVENT
DTSTART;TZID=America/Toronto:20270920T110000
DTEND;TZID=America/Toronto:20270920T120000
DTSTAMP:20260419T212558
CREATED:20260406T131817Z
LAST-MODIFIED:20260406T150926Z
UID:10005901-1821438000-1821441600@www.kwlifestyles.com
SUMMARY:Byte-Sized Tech – Your Questions Answered!
DESCRIPTION:Drop in for quick\, practical help with real estate technology! \nWhether it’s Command\, Realm\, DocuSign\, or anything else\, bring your questions for David and get answers on the spot. \nJoin anytime during the session\, stay as long as you need\, and leave with solutions.
URL:https://www.kwlifestyles.com/event/byte-sized-tech-your-questions-answered/2027-09-20/
LOCATION:Online
CATEGORIES:London
END:VEVENT
BEGIN:VEVENT
DTSTART;TZID=America/Toronto:20270921T110000
DTEND;TZID=America/Toronto:20270921T120000
DTSTAMP:20260419T212558
CREATED:20260406T131817Z
LAST-MODIFIED:20260406T150926Z
UID:10005902-1821524400-1821528000@www.kwlifestyles.com
SUMMARY:Byte-Sized Tech – Your Questions Answered!
DESCRIPTION:Drop in for quick\, practical help with real estate technology! \nWhether it’s Command\, Realm\, DocuSign\, or anything else\, bring your questions for David and get answers on the spot. \nJoin anytime during the session\, stay as long as you need\, and leave with solutions.
URL:https://www.kwlifestyles.com/event/byte-sized-tech-your-questions-answered/2027-09-21/
LOCATION:Online
CATEGORIES:London
END:VEVENT
BEGIN:VEVENT
DTSTART;TZID=America/Toronto:20270922T110000
DTEND;TZID=America/Toronto:20270922T120000
DTSTAMP:20260419T212558
CREATED:20260406T131817Z
LAST-MODIFIED:20260406T150926Z
UID:10005903-1821610800-1821614400@www.kwlifestyles.com
SUMMARY:Byte-Sized Tech – Your Questions Answered!
DESCRIPTION:Drop in for quick\, practical help with real estate technology! \nWhether it’s Command\, Realm\, DocuSign\, or anything else\, bring your questions for David and get answers on the spot. \nJoin anytime during the session\, stay as long as you need\, and leave with solutions.
URL:https://www.kwlifestyles.com/event/byte-sized-tech-your-questions-answered/2027-09-22/
LOCATION:Online
CATEGORIES:London
END:VEVENT
BEGIN:VEVENT
DTSTART;TZID=America/Toronto:20270923T110000
DTEND;TZID=America/Toronto:20270923T120000
DTSTAMP:20260419T212558
CREATED:20260406T131817Z
LAST-MODIFIED:20260406T150926Z
UID:10005904-1821697200-1821700800@www.kwlifestyles.com
SUMMARY:Byte-Sized Tech – Your Questions Answered!
DESCRIPTION:Drop in for quick\, practical help with real estate technology! \nWhether it’s Command\, Realm\, DocuSign\, or anything else\, bring your questions for David and get answers on the spot. \nJoin anytime during the session\, stay as long as you need\, and leave with solutions.
URL:https://www.kwlifestyles.com/event/byte-sized-tech-your-questions-answered/2027-09-23/
LOCATION:Online
CATEGORIES:London
END:VEVENT
BEGIN:VEVENT
DTSTART;TZID=America/Toronto:20270927T110000
DTEND;TZID=America/Toronto:20270927T120000
DTSTAMP:20260419T212558
CREATED:20260406T131817Z
LAST-MODIFIED:20260406T150926Z
UID:10005905-1822042800-1822046400@www.kwlifestyles.com
SUMMARY:Byte-Sized Tech – Your Questions Answered!
DESCRIPTION:Drop in for quick\, practical help with real estate technology! \nWhether it’s Command\, Realm\, DocuSign\, or anything else\, bring your questions for David and get answers on the spot. \nJoin anytime during the session\, stay as long as you need\, and leave with solutions.
URL:https://www.kwlifestyles.com/event/byte-sized-tech-your-questions-answered/2027-09-27/
LOCATION:Online
CATEGORIES:London
END:VEVENT
BEGIN:VEVENT
DTSTART;TZID=America/Toronto:20270928T110000
DTEND;TZID=America/Toronto:20270928T120000
DTSTAMP:20260419T212558
CREATED:20260406T131817Z
LAST-MODIFIED:20260406T150926Z
UID:10005906-1822129200-1822132800@www.kwlifestyles.com
SUMMARY:Byte-Sized Tech – Your Questions Answered!
DESCRIPTION:Drop in for quick\, practical help with real estate technology! \nWhether it’s Command\, Realm\, DocuSign\, or anything else\, bring your questions for David and get answers on the spot. \nJoin anytime during the session\, stay as long as you need\, and leave with solutions.
URL:https://www.kwlifestyles.com/event/byte-sized-tech-your-questions-answered/2027-09-28/
LOCATION:Online
CATEGORIES:London
END:VEVENT
BEGIN:VEVENT
DTSTART;TZID=America/Toronto:20270929T110000
DTEND;TZID=America/Toronto:20270929T120000
DTSTAMP:20260419T212558
CREATED:20260406T131817Z
LAST-MODIFIED:20260406T150926Z
UID:10005907-1822215600-1822219200@www.kwlifestyles.com
SUMMARY:Byte-Sized Tech – Your Questions Answered!
DESCRIPTION:Drop in for quick\, practical help with real estate technology! \nWhether it’s Command\, Realm\, DocuSign\, or anything else\, bring your questions for David and get answers on the spot. \nJoin anytime during the session\, stay as long as you need\, and leave with solutions.
URL:https://www.kwlifestyles.com/event/byte-sized-tech-your-questions-answered/2027-09-29/
LOCATION:Online
CATEGORIES:London
END:VEVENT
BEGIN:VEVENT
DTSTART;TZID=America/Toronto:20270930T110000
DTEND;TZID=America/Toronto:20270930T120000
DTSTAMP:20260419T212558
CREATED:20260406T131817Z
LAST-MODIFIED:20260406T150926Z
UID:10005908-1822302000-1822305600@www.kwlifestyles.com
SUMMARY:Byte-Sized Tech – Your Questions Answered!
DESCRIPTION:Drop in for quick\, practical help with real estate technology! \nWhether it’s Command\, Realm\, DocuSign\, or anything else\, bring your questions for David and get answers on the spot. \nJoin anytime during the session\, stay as long as you need\, and leave with solutions.
URL:https://www.kwlifestyles.com/event/byte-sized-tech-your-questions-answered/2027-09-30/
LOCATION:Online
CATEGORIES:London
END:VEVENT
BEGIN:VEVENT
DTSTART;TZID=America/Toronto:20271004T110000
DTEND;TZID=America/Toronto:20271004T120000
DTSTAMP:20260419T212558
CREATED:20260406T131817Z
LAST-MODIFIED:20260406T150926Z
UID:10005909-1822647600-1822651200@www.kwlifestyles.com
SUMMARY:Byte-Sized Tech – Your Questions Answered!
DESCRIPTION:Drop in for quick\, practical help with real estate technology! \nWhether it’s Command\, Realm\, DocuSign\, or anything else\, bring your questions for David and get answers on the spot. \nJoin anytime during the session\, stay as long as you need\, and leave with solutions.
URL:https://www.kwlifestyles.com/event/byte-sized-tech-your-questions-answered/2027-10-04/
LOCATION:Online
CATEGORIES:London
END:VEVENT
BEGIN:VEVENT
DTSTART;TZID=America/Toronto:20271005T110000
DTEND;TZID=America/Toronto:20271005T120000
DTSTAMP:20260419T212558
CREATED:20260406T131817Z
LAST-MODIFIED:20260406T150926Z
UID:10005910-1822734000-1822737600@www.kwlifestyles.com
SUMMARY:Byte-Sized Tech – Your Questions Answered!
DESCRIPTION:Drop in for quick\, practical help with real estate technology! \nWhether it’s Command\, Realm\, DocuSign\, or anything else\, bring your questions for David and get answers on the spot. \nJoin anytime during the session\, stay as long as you need\, and leave with solutions.
URL:https://www.kwlifestyles.com/event/byte-sized-tech-your-questions-answered/2027-10-05/
LOCATION:Online
CATEGORIES:London
END:VEVENT
BEGIN:VEVENT
DTSTART;TZID=America/Toronto:20271006T110000
DTEND;TZID=America/Toronto:20271006T120000
DTSTAMP:20260419T212558
CREATED:20260406T131817Z
LAST-MODIFIED:20260406T150926Z
UID:10005911-1822820400-1822824000@www.kwlifestyles.com
SUMMARY:Byte-Sized Tech – Your Questions Answered!
DESCRIPTION:Drop in for quick\, practical help with real estate technology! \nWhether it’s Command\, Realm\, DocuSign\, or anything else\, bring your questions for David and get answers on the spot. \nJoin anytime during the session\, stay as long as you need\, and leave with solutions.
URL:https://www.kwlifestyles.com/event/byte-sized-tech-your-questions-answered/2027-10-06/
LOCATION:Online
CATEGORIES:London
END:VEVENT
BEGIN:VEVENT
DTSTART;TZID=America/Toronto:20271007T110000
DTEND;TZID=America/Toronto:20271007T120000
DTSTAMP:20260419T212558
CREATED:20260406T131817Z
LAST-MODIFIED:20260406T150926Z
UID:10005912-1822906800-1822910400@www.kwlifestyles.com
SUMMARY:Byte-Sized Tech – Your Questions Answered!
DESCRIPTION:Drop in for quick\, practical help with real estate technology! \nWhether it’s Command\, Realm\, DocuSign\, or anything else\, bring your questions for David and get answers on the spot. \nJoin anytime during the session\, stay as long as you need\, and leave with solutions.
URL:https://www.kwlifestyles.com/event/byte-sized-tech-your-questions-answered/2027-10-07/
LOCATION:Online
CATEGORIES:London
END:VEVENT
BEGIN:VEVENT
DTSTART;TZID=America/Toronto:20271011T110000
DTEND;TZID=America/Toronto:20271011T120000
DTSTAMP:20260419T212558
CREATED:20260406T131817Z
LAST-MODIFIED:20260406T150926Z
UID:10005913-1823252400-1823256000@www.kwlifestyles.com
SUMMARY:Byte-Sized Tech – Your Questions Answered!
DESCRIPTION:Drop in for quick\, practical help with real estate technology! \nWhether it’s Command\, Realm\, DocuSign\, or anything else\, bring your questions for David and get answers on the spot. \nJoin anytime during the session\, stay as long as you need\, and leave with solutions.
URL:https://www.kwlifestyles.com/event/byte-sized-tech-your-questions-answered/2027-10-11/
LOCATION:Online
CATEGORIES:London
END:VEVENT
BEGIN:VEVENT
DTSTART;TZID=America/Toronto:20271012T110000
DTEND;TZID=America/Toronto:20271012T120000
DTSTAMP:20260419T212558
CREATED:20260406T131817Z
LAST-MODIFIED:20260406T150926Z
UID:10005914-1823338800-1823342400@www.kwlifestyles.com
SUMMARY:Byte-Sized Tech – Your Questions Answered!
DESCRIPTION:Drop in for quick\, practical help with real estate technology! \nWhether it’s Command\, Realm\, DocuSign\, or anything else\, bring your questions for David and get answers on the spot. \nJoin anytime during the session\, stay as long as you need\, and leave with solutions.
URL:https://www.kwlifestyles.com/event/byte-sized-tech-your-questions-answered/2027-10-12/
LOCATION:Online
CATEGORIES:London
END:VEVENT
BEGIN:VEVENT
DTSTART;TZID=America/Toronto:20271013T110000
DTEND;TZID=America/Toronto:20271013T120000
DTSTAMP:20260419T212558
CREATED:20260406T131817Z
LAST-MODIFIED:20260406T150926Z
UID:10005915-1823425200-1823428800@www.kwlifestyles.com
SUMMARY:Byte-Sized Tech – Your Questions Answered!
DESCRIPTION:Drop in for quick\, practical help with real estate technology! \nWhether it’s Command\, Realm\, DocuSign\, or anything else\, bring your questions for David and get answers on the spot. \nJoin anytime during the session\, stay as long as you need\, and leave with solutions.
URL:https://www.kwlifestyles.com/event/byte-sized-tech-your-questions-answered/2027-10-13/
LOCATION:Online
CATEGORIES:London
END:VEVENT
BEGIN:VEVENT
DTSTART;TZID=America/Toronto:20271014T110000
DTEND;TZID=America/Toronto:20271014T120000
DTSTAMP:20260419T212558
CREATED:20260406T131817Z
LAST-MODIFIED:20260406T150926Z
UID:10005916-1823511600-1823515200@www.kwlifestyles.com
SUMMARY:Byte-Sized Tech – Your Questions Answered!
DESCRIPTION:Drop in for quick\, practical help with real estate technology! \nWhether it’s Command\, Realm\, DocuSign\, or anything else\, bring your questions for David and get answers on the spot. \nJoin anytime during the session\, stay as long as you need\, and leave with solutions.
URL:https://www.kwlifestyles.com/event/byte-sized-tech-your-questions-answered/2027-10-14/
LOCATION:Online
CATEGORIES:London
END:VEVENT
BEGIN:VEVENT
DTSTART;TZID=America/Toronto:20271018T110000
DTEND;TZID=America/Toronto:20271018T120000
DTSTAMP:20260419T212558
CREATED:20260406T131817Z
LAST-MODIFIED:20260406T150926Z
UID:10005917-1823857200-1823860800@www.kwlifestyles.com
SUMMARY:Byte-Sized Tech – Your Questions Answered!
DESCRIPTION:Drop in for quick\, practical help with real estate technology! \nWhether it’s Command\, Realm\, DocuSign\, or anything else\, bring your questions for David and get answers on the spot. \nJoin anytime during the session\, stay as long as you need\, and leave with solutions.
URL:https://www.kwlifestyles.com/event/byte-sized-tech-your-questions-answered/2027-10-18/
LOCATION:Online
CATEGORIES:London
END:VEVENT
BEGIN:VEVENT
DTSTART;TZID=America/Toronto:20271019T110000
DTEND;TZID=America/Toronto:20271019T120000
DTSTAMP:20260419T212558
CREATED:20260406T131817Z
LAST-MODIFIED:20260406T150926Z
UID:10005918-1823943600-1823947200@www.kwlifestyles.com
SUMMARY:Byte-Sized Tech – Your Questions Answered!
DESCRIPTION:Drop in for quick\, practical help with real estate technology! \nWhether it’s Command\, Realm\, DocuSign\, or anything else\, bring your questions for David and get answers on the spot. \nJoin anytime during the session\, stay as long as you need\, and leave with solutions.
URL:https://www.kwlifestyles.com/event/byte-sized-tech-your-questions-answered/2027-10-19/
LOCATION:Online
CATEGORIES:London
END:VEVENT
BEGIN:VEVENT
DTSTART;TZID=America/Toronto:20271020T110000
DTEND;TZID=America/Toronto:20271020T120000
DTSTAMP:20260419T212558
CREATED:20260406T131817Z
LAST-MODIFIED:20260406T150926Z
UID:10005919-1824030000-1824033600@www.kwlifestyles.com
SUMMARY:Byte-Sized Tech – Your Questions Answered!
DESCRIPTION:Drop in for quick\, practical help with real estate technology! \nWhether it’s Command\, Realm\, DocuSign\, or anything else\, bring your questions for David and get answers on the spot. \nJoin anytime during the session\, stay as long as you need\, and leave with solutions.
URL:https://www.kwlifestyles.com/event/byte-sized-tech-your-questions-answered/2027-10-20/
LOCATION:Online
CATEGORIES:London
END:VEVENT
BEGIN:VEVENT
DTSTART;TZID=America/Toronto:20271021T110000
DTEND;TZID=America/Toronto:20271021T120000
DTSTAMP:20260419T212558
CREATED:20260406T131817Z
LAST-MODIFIED:20260406T150926Z
UID:10005920-1824116400-1824120000@www.kwlifestyles.com
SUMMARY:Byte-Sized Tech – Your Questions Answered!
DESCRIPTION:Drop in for quick\, practical help with real estate technology! \nWhether it’s Command\, Realm\, DocuSign\, or anything else\, bring your questions for David and get answers on the spot. \nJoin anytime during the session\, stay as long as you need\, and leave with solutions.
URL:https://www.kwlifestyles.com/event/byte-sized-tech-your-questions-answered/2027-10-21/
LOCATION:Online
CATEGORIES:London
END:VEVENT
BEGIN:VEVENT
DTSTART;TZID=America/Toronto:20271025T110000
DTEND;TZID=America/Toronto:20271025T120000
DTSTAMP:20260419T212558
CREATED:20260406T131817Z
LAST-MODIFIED:20260406T150926Z
UID:10005921-1824462000-1824465600@www.kwlifestyles.com
SUMMARY:Byte-Sized Tech – Your Questions Answered!
DESCRIPTION:Drop in for quick\, practical help with real estate technology! \nWhether it’s Command\, Realm\, DocuSign\, or anything else\, bring your questions for David and get answers on the spot. \nJoin anytime during the session\, stay as long as you need\, and leave with solutions.
URL:https://www.kwlifestyles.com/event/byte-sized-tech-your-questions-answered/2027-10-25/
LOCATION:Online
CATEGORIES:London
END:VEVENT
BEGIN:VEVENT
DTSTART;TZID=America/Toronto:20271026T110000
DTEND;TZID=America/Toronto:20271026T120000
DTSTAMP:20260419T212558
CREATED:20260406T131817Z
LAST-MODIFIED:20260406T150926Z
UID:10005922-1824548400-1824552000@www.kwlifestyles.com
SUMMARY:Byte-Sized Tech – Your Questions Answered!
DESCRIPTION:Drop in for quick\, practical help with real estate technology! \nWhether it’s Command\, Realm\, DocuSign\, or anything else\, bring your questions for David and get answers on the spot. \nJoin anytime during the session\, stay as long as you need\, and leave with solutions.
URL:https://www.kwlifestyles.com/event/byte-sized-tech-your-questions-answered/2027-10-26/
LOCATION:Online
CATEGORIES:London
END:VEVENT
END:VCALENDAR